Workbook

Sheet Menu
B1: China
A3: Datum | B3: 43062
A5: Pfanne 1 | B5: Hähnchenspiesse mit Erdnusssauce
A7: Pfanne 2 | B7: Rindfleisch nach Szechuan Art
A9: Pfanne 3 | B9: Gebratene Nudeln
A11: Pfanne 4 | B11: Chinesisches Gemüse
A13: Pfanne 5 | B13: Gebackene Banane mit Honig
A17: Diverses
A19: Menu von Tisch | B19: D
A21: Personenzahl | B21: 4

Sheet Pfanne 1
E1: Chochete vom | F1: =SUM(Menu!B3) -> 43062 | I1: Original Rezept
A2: =Menu!B5 -> Hähnchenspiesse mit Erdnusssauce | E2: Rezept für | F2: =SUM(Menu!B21) -> 4 | I2: 4 | J2: Personen
A3: Menge | B3: Einheit | C3: Artikel (Gewicht alles ca. Angaben) | D3: Bemerkungen | E3: Einkaufspreis | F3: Betrag | I3: Originalrezept | J3: pro Person
A4: =ROUND(SUM(J4*$F$2),2) -> 0.6 | B4: Kg | C4: Hähnchenbrustfilets | F4: =SUM(E4*A4) -> 0 | I4: 0.6 | J4: =I4/$I$2 -> 0.15
A5: =ROUND(SUM(J5*$F$2),2) -> 0 | C5: Für die Marinade: | F5: =SUM(E5*A5) -> 0 | J5: =I5/$I$2 -> 0
A6: =ROUND(SUM(J6*$F$2),2) -> 1 | B6: EL | C6: Currypaste, rot | F6: =SUM(E6*A6) -> 0 | I6: 1 | J6: =I6/$I$2 -> 0.25
A7: =ROUND(SUM(J7*$F$2),2) -> 1 | B7: EL | C7: Honig, flüssig | F7: =SUM(E7*A7) -> 0 | I7: 1 | J7: =I7/$I$2 -> 0.25
A8: =ROUND(SUM(J8*$F$2),2) -> 3 | B8: EL | C8: Distelöl | F8: =SUM(E8*A8) -> 0 | I8: 3 | J8: =I8/$I$2 -> 0.75
A9: =ROUND(SUM(J9*$F$2),2) -> 1 | B9: EL | C9: Sojasauce | F9: =SUM(E9*A9) -> 0 | I9: 1 | J9: =I9/$I$2 -> 0.25
A10: =ROUND(SUM(J10*$F$2),2) -> 0 | C10: Für die Sauce: | F10: =SUM(E10*A10) -> 0 | J10: =I10/$I$2 -> 0
A11: =ROUND(SUM(J11*$F$2),2) -> 3 | B11: EL | C11: Chilisauce, süß-scharf, für Hühnchen | F11: =SUM(E11*A11) -> 0 | I11: 3 | J11: =I11/$I$2 -> 0.75
A12: =ROUND(SUM(J12*$F$2),2) -> 2 | B12: EL | C12: Erdnussbutter, ohne Stücke | F12: =SUM(E12*A12) -> 0 | I12: 2 | J12: =I12/$I$2 -> 0.5
A13: =ROUND(SUM(J13*$F$2),2) -> 1 | B13: EL | C13: Sojasauce | F13: =SUM(E13*A13) -> 0 | I13: 1 | J13: =I13/$I$2 -> 0.25
A14: =ROUND(SUM(J14*$F$2),2) -> 3 | B14: EL | C14: Milch | F14: =SUM(E14*A14) -> 0 | I14: 3 | J14: =I14/$I$2 -> 0.75
A15: =ROUND(SUM(J15*$F$2),2) -> 0 | F15: =SUM(E15*A15) -> 0 | J15: =I15/$I$2 -> 0
A16: =ROUND(SUM(J16*$F$2),2) -> 0 | F16: =SUM(E16*A16) -> 0 | J16: =I16/$I$2 -> 0
A17: =ROUND(SUM(J17*$F$2),2) -> 0 | F17: =SUM(E17*A17) -> 0 | J17: =I17/$I$2 -> 0
A18: =ROUND(SUM(J18*$F$2),2) -> 0 | F18: =SUM(E18*A18) -> 0 | J18: =I18/$I$2 -> 0
A19: =ROUND(SUM(J19*$F$2),2) -> 0 | F19: =SUM(E19*A19) -> 0 | J19: =I19/$I$2 -> 0
A20: =ROUND(SUM(J20*$F$2),2) -> 0 | F20: =SUM(E20*A20) -> 0 | J20: =I20/$I$2 -> 0
A21: Zubereitung
A22: Hähnchenbrustfilets der Länge nach halbieren und dann in dünne Scheiben schneiden. Aus einem Filet erhält man etwa 6-7 Scheiben. Das Fleisch wellenförmig auf die Spieße stecken.
A23: Aus Currypaste, Honig, Öl und 1 EL Sojasauce eine Marinade zubereiten und die Spieße damit einpinseln. Mind. 1 Stunde ziehen lassen.
A24: Ofen vorheizen auf 200 Grad Umluft.
A25: Die Spieße auf einem mit Backpapier belegten Backblech verteilen, die Enden der Spieße sollten ein wenig über den Rand gelegt werden, damit sie nicht mit der Marinade in Berührung kommen, brennt sonst an.
A26: Auf der mittleren Schiene dann von jeder Seite 8 Min. braten.
A27: Für 40 Spieße werden 2 Bratdurchgänge benötigt, es passen etwa 20 Stück auf 1 Blech.
A28: Die gebratenen Spieße herausnehmen und am besten über Kopf in einer Schüssel abtropfen lassen.
A29: Für die Sauce die Chilisauce, Erdnussbutter, 1 EL Sojasauce und die Milch mit einem Handrührgerät vermengen. Je flüssiger die Sauce werden soll, umso mehr Milch gibt man hinzu.
A30: Die Spieße dann von beiden Seiten mit der Sauce einstreichen.
A31: Passt super zu einem kalten Buffet, für weniger Personen mit z.B. einem Salat als Hauptgericht oder auch als Vorspeise.

Sheet Pfanne 2
E1: Chochete vom | F1: =SUM(Menu!B3) -> 43062 | I1: Original Rezept
A2: =Menu!B7 -> Rindfleisch nach Szechuan Art | E2: Rezept für | F2: =SUM(Menu!B21) -> 4 | I2: 4 | J2: Personen
A3: Menge | B3: Einheit | C3: Artikel (Gewicht alles ca. Angaben) | D3: Bemerkungen | E3: Einkaufspreis | F3: Betrag | I3: Originalrezept | J3: pro Person
A4: =ROUND(SUM(J4*$F$2),2) -> 0.45 | B4: Kg | C4: Rindshuft | F4: =SUM(E4*A4) -> 0 | I4: 0.45 | J4: =I4/$I$2 -> 0.1125
A5: =ROUND(SUM(J5*$F$2),2) -> 5 | B5: EL | C5: Sojasauce | F5: =SUM(E5*A5) -> 0 | I5: 5 | J5: =I5/$I$2 -> 1.25
A6: =ROUND(SUM(J6*$F$2),2) -> 2 | B6: St | C6: Chilischoten | F6: =SUM(E6*A6) -> 0 | I6: 2 | J6: =I6/$I$2 -> 0.5
A7: =ROUND(SUM(J7*$F$2),2) -> 1 | B7: Bund | C7: Frühlingszwiebeln | F7: =SUM(E7*A7) -> 0 | I7: 1 | J7: =I7/$I$2 -> 0.25
A8: =ROUND(SUM(J8*$F$2),2) -> 3 | B8: St | C8: Knoblauchzehen | F8: =SUM(E8*A8) -> 0 | I8: 3 | J8: =I8/$I$2 -> 0.75
A9: =ROUND(SUM(J9*$F$2),2) -> 1 | B9: Dose | C9: Bambussprossen à 230 g | F9: =SUM(E9*A9) -> 0 | I9: 1 | J9: =I9/$I$2 -> 0.25
A10: =ROUND(SUM(J10*$F$2),2) -> 1 | B10: EL | C10: Maisstärke | F10: =SUM(E10*A10) -> 0 | I10: 1 | J10: =I10/$I$2 -> 0.25
A11: =ROUND(SUM(J11*$F$2),2) -> 2 | B11: EL | C11: Distelöl | F11: =SUM(E11*A11) -> 0 | I11: 2 | J11: =I11/$I$2 -> 0.5
A12: =ROUND(SUM(J12*$F$2),2) -> 2 | B12: Dl | C12: starke Rindsbouillon | F12: =SUM(E12*A12) -> 0 | I12: 2 | J12: =I12/$I$2 -> 0.5
A13: =ROUND(SUM(J13*$F$2),2) -> 1 | B13: EL | C13: Rohzucker | F13: =SUM(E13*A13) -> 0 | I13: 1 | J13: =I13/$I$2 -> 0.25
A14: =ROUND(SUM(J14*$F$2),2) -> 0 | F14: =SUM(E14*A14) -> 0 | J14: =I14/$I$2 -> 0
A15: =ROUND(SUM(J15*$F$2),2) -> 0 | F15: =SUM(E15*A15) -> 0 | J15: =I15/$I$2 -> 0
A16: =ROUND(SUM(J16*$F$2),2) -> 0 | F16: =SUM(E16*A16) -> 0 | J16: =I16/$I$2 -> 0
A17: =ROUND(SUM(J17*$F$2),2) -> 0 | F17: =SUM(E17*A17) -> 0 | J17: =I17/$I$2 -> 0
A18: =ROUND(SUM(J18*$F$2),2) -> 0 | F18: =SUM(E18*A18) -> 0 | J18: =I18/$I$2 -> 0
A19: =ROUND(SUM(J19*$F$2),2) -> 0 | F19: =SUM(E19*A19) -> 0 | J19: =I19/$I$2 -> 0
A20: =ROUND(SUM(J20*$F$2),2) -> 0 | F20: =SUM(E20*A20) -> 0 | J20: =I20/$I$2 -> 0
A21: Zubereitung
A22: Fleisch in ca. 5 cm lange, 1 cm breite Streifen schneiden. Mit Sojasauce mischen. Chilis halbieren, entkernen und in Streifen, Zwiebeln in Stücke, Knoblauch in Scheiben schneiden. Bambussprossen abgiessen. Maisstärke mit wenig Wasser anrühren. Fleisch aus der Sojasauce heben. Abtropfen lassen, Sauce auffangen. Fleisch im Öl kurz anbraten. Chilis, Zwiebeln, Knoblauch und Bambussprossen dazugeben. Alles ca. 2 Minuten braten. Aufgefangene Sojasauce, Bouillon und Zucker dazugeben. Aufkochen, Maisstärke dazugiessen, Sauce sämig einkochen lassen. Dazu passen China-Nudeln.

Sheet Pfanne 3
E1: Chochete vom | F1: =SUM(Menu!B3) -> 43062 | I1: Original Rezept
A2: =Menu!B9 -> Gebratene Nudeln | E2: Rezept für | F2: =Menu!B21 -> 4 | I2: 4 | J2: Personen
A3: Menge | B3: Einheit | C3: Artikel (Gewicht alles ca. Angaben) | D3: Bemerkungen | E3: Einkaufspreis | F3: Betrag | I3: Originalrezept | J3: pro Person
A4: =ROUND(SUM(J4*$F$2),2) -> 0.4 | B4: Kg | C4: Geflügelfleisch | F4: =SUM(E4*A4) -> 0 | I4: 0.4 | J4: =I4/$I$2 -> 0.1
A5: =ROUND(SUM(J5*$F$2),2) -> 0.5 | B5: Kg | C5: chinesische Eiernudeln, gekocht | F5: =SUM(E5*A5) -> 0 | I5: 0.5 | J5: =I5/$I$2 -> 0.125
A6: =ROUND(SUM(J6*$F$2),2) -> 0.2 | B6: Kg | C6: Sojasprossen | F6: =SUM(E6*A6) -> 0 | I6: 0.2 | J6: =I6/$I$2 -> 0.05
A7: =ROUND(SUM(J7*$F$2),2) -> 2 | B7: St | C7: Frühlingszwiebeln | F7: =SUM(E7*A7) -> 0 | I7: 2 | J7: =I7/$I$2 -> 0.5
A8: =ROUND(SUM(J8*$F$2),2) -> 0 | C8: Distelöl | F8: =SUM(E8*A8) -> 0 | J8: =I8/$I$2 -> 0
A9: =ROUND(SUM(J9*$F$2),2) -> 0 | C9: Sojasauce | F9: =SUM(E9*A9) -> 0 | J9: =I9/$I$2 -> 0
A10: =ROUND(SUM(J10*$F$2),2) -> 0 | C10: Sambal Oelek | F10: =SUM(E10*A10) -> 0 | J10: =I10/$I$2 -> 0
A11: =ROUND(SUM(J11*$F$2),2) -> 0 | C11: Paprikapulver | F11: =SUM(E11*A11) -> 0 | J11: =I11/$I$2 -> 0
A12: =ROUND(SUM(J12*$F$2),2) -> 0 | C12: Curry | F12: =SUM(E12*A12) -> 0 | J12: =I12/$I$2 -> 0
A13: =ROUND(SUM(J13*$F$2),2) -> 0 | F13: =SUM(E13*A13) -> 0 | J13: =I13/$I$2 -> 0
A14: =ROUND(SUM(J14*$F$2),2) -> 0 | F14: =SUM(E14*A14) -> 0 | J14: =I14/$I$2 -> 0
A15: =ROUND(SUM(J15*$F$2),2) -> 0 | F15: =SUM(E15*A15) -> 0 | J15: =I15/$I$2 -> 0
A16: =ROUND(SUM(J16*$F$2),2) -> 0 | F16: =SUM(E16*A16) -> 0 | J16: =I16/$I$2 -> 0
A17: =ROUND(SUM(J17*$F$2),2) -> 0 | F17: =SUM(E17*A17) -> 0 | J17: =I17/$I$2 -> 0
A18: =ROUND(SUM(J18*$F$2),2) -> 0 | F18: =SUM(E18*A18) -> 0 | J18: =I18/$I$2 -> 0
A19: =ROUND(SUM(J19*$F$2),2) -> 0 | F19: =SUM(E19*A19) -> 0 | J19: =I19/$I$2 -> 0
A20: =ROUND(SUM(J20*$F$2),2) -> 0 | F20: =SUM(E20*A20) -> 0 | J20: =I20/$I$2 -> 0
A21: Zubereitung
A22: Man verwendet hier bereits gekochte Nudeln.
A23: Das Fleisch in feine Streifen schneiden und mit Sojasoße und Sambal Oelek vorwürzen. 5 EL Öl und 1 TL Sojasoße vermischen und in einen Wok oder eine Pfanne geben. Das Fleisch anbraten und dann die Sprossen dazugeben. Kurz danach die Nudeln zugeben. Ca. 5 Minuten weiter braten lassen und regelmäßig wenden. Zum Schluss mit den angegebenen Gewürzen nach Geschmack würzen.

Sheet Pfanne 4
E1: Chochete vom | F1: =SUM(Menu!B3) -> 43062 | I1: Original Rezept
A2: =Menu!B11 -> Chinesisches Gemüse | E2: Rezept für | F2: =SUM(Menu!B21) -> 4 | I2: 4 | J2: Personen
A3: Menge | B3: Einheit | C3: Artikel (Gewicht alles ca. Angaben) | D3: Bemerkungen | E3: Einkaufspreis | F3: Betrag | I3: Originalrezept | J3: pro Person
A4: =ROUND(SUM(J4*$F$2),2) -> 2 | B4: St | C4: Frühlingszwiebeln | F4: =SUM(E4*A4) -> 0 | I4: 2 | J4: =I4/$I$2 -> 0.5
A5: =ROUND(SUM(J5*$F$2),2) -> 0.15 | B5: Kg | C5: Stangensellerie | F5: =SUM(E5*A5) -> 0 | I5: 0.15 | J5: =I5/$I$2 -> 0.0375
A6: =ROUND(SUM(J6*$F$2),2) -> 0.15 | B6: Kg | C6: rote Peperoni | F6: =SUM(E6*A6) -> 0 | I6: 0.15 | J6: =I6/$I$2 -> 0.0375
A7: =ROUND(SUM(J7*$F$2),2) -> 0.15 | B7: Kg | C7: Rüebli | F7: =SUM(E7*A7) -> 0 | I7: 0.15 | J7: =I7/$I$2 -> 0.0375
A8: =ROUND(SUM(J8*$F$2),2) -> 2 | B8: St | C8: Scheiben frischer Ingwer, gequetscht | F8: =SUM(E8*A8) -> 0 | I8: 2 | J8: =I8/$I$2 -> 0.5
A9: =ROUND(SUM(J9*$F$2),2) -> 1 | B9: St | C9: Knoblauchzehe, gequetscht | F9: =SUM(E9*A9) -> 0 | I9: 1 | J9: =I9/$I$2 -> 0.25
A10: =ROUND(SUM(J10*$F$2),2) -> 1 | B10: TL | C10: Pfeffer | F10: =SUM(E10*A10) -> 0 | I10: 1 | J10: =I10/$I$2 -> 0.25
A11: =ROUND(SUM(J11*$F$2),2) -> 2 | B11: EL | C11: Diestelöl | F11: =SUM(E11*A11) -> 0 | I11: 2 | J11: =I11/$I$2 -> 0.5
A12: =ROUND(SUM(J12*$F$2),2) -> 0.15 | B12: Kg | C12: tiefgekühlte Kefen | F12: =SUM(E12*A12) -> 0 | I12: 0.15 | J12: =I12/$I$2 -> 0.0375
A13: =ROUND(SUM(J13*$F$2),2) -> 0.15 | B13: Kg | C13: Lauch, in feinen Streifen | F13: =SUM(E13*A13) -> 0 | I13: 0.15 | J13: =I13/$I$2 -> 0.0375
A14: =ROUND(SUM(J14*$F$2),2) -> 1.5 | B14: DL | C14: Gemüsebouillon | F14: =SUM(E14*A14) -> 0 | I14: 1.5 | J14: =I14/$I$2 -> 0.375
A15: =ROUND(SUM(J15*$F$2),2) -> 2 | B15: EL | C15: Sojasauce | F15: =SUM(E15*A15) -> 0 | I15: 2 | J15: =I15/$I$2 -> 0.5
... A19: =ROUND(SUM(J19*$F$2),2) -> 2 | B19: St | C19: kleine Frühlingszwiebeln, in Kronen, für die Garnitur | F19: =SUM(E19*A19) -> 0 | I19: 2 | J19: =I19/$I$2 -> 0.5
A20: =ROUND(SUM(J20*$F$2),2) -> 0 | F20: =SUM(E20*A20) -> 0 | J20: =I20/$I$2 -> 0
A21: Zubereitung
A22: Alle Zutaten bis und mit Rüebli in feine Streifen schneiden. Ingwer, Knoblauch und Pfeffer im Wok oder in einer grossen Bratpfanne im heissen Öl rösten, herausnehmen. Gemüse hineingeben, ca. 3 Min. rührbraten. Kefen beifügen, ca. 1 Min. weiter rührbraten. Lauch beigeben, nochmals 1 Min. rührbraten. Bouillon, Sojasauce und Austernsauce zugeben, Gemüse ca. 4 Min. köcheln. Maizena mit dem Wasser anrühren, dazugiessen, ca. 2 Min.weiterköcheln, bis die Sauce gebunden ist, sofort anrichten, garnieren

Sheet Pfanne 5
E1: Chochete vom | F1: =SUM(Menu!B3) -> 43062 | I1: Original Rezept
A2: =Menu!B13 -> Gebackene Banane mit Honig | E2: Rezept für | F2: 4 | I2: 4 | J2: Personen
A3: Menge | B3: Einheit | C3: Artikel (Gewicht alles ca. Angaben) | D3: Bemerkungen | E3: Einkaufspreis | F3: Betrag | J3: pro Person
A4: =ROUND(SUM(J4*$F$2),2) -> 2 | B4: St | C4: Bananen | F4: =SUM(E4*A4) -> 0 | I4: 2 | J4: =I4/$I$2 -> 0.5
A5: =ROUND(SUM(J5*$F$2),2) -> 0 | C5: Für den Teig: | F5: =SUM(E5*A5) -> 0 | J5: =I5/$I$2 -> 0
A6: =ROUND(SUM(J6*$F$2),2) -> 0.08 | B6: Kg | C6: Mehl | F6: =SUM(E6*A6) -> 0 | I6: 0.08 | J6: =I6/$I$2 -> 0.02
A7: =ROUND(SUM(J7*$F$2),2) -> 1 | B7: TL | C7: Backpulver | F7: =SUM(E7*A7) -> 0 | I7: 1 | J7: =I7/$I$2 -> 0.25
A8: =ROUND(SUM(J8*$F$2),2) -> 1 | B8: Prise | C8: Salz | F8: =SUM(E8*A8) -> 0 | I8: 1 | J8: =I8/$I$2 -> 0.25
A9: =ROUND(SUM(J9*$F$2),2) -> 1 | B9: EL | C9: Rohzucker | F9: =SUM(E9*A9) -> 0 | I9: 1 | J9: =I9/$I$2 -> 0.25
A10: =ROUND(SUM(J10*$F$2),2) -> 8 | B10: EL | C10: Wasser | F10: =SUM(E10*A10) -> 0 | I10: 8 | J10: =I10/$I$2 -> 2
A11: =ROUND(SUM(J11*$F$2),2) -> 0 | C11: Öl, zum Ausbacken | F11: =SUM(E11*A11) -> 0 | J11: =I11/$I$2 -> 0
A12: =ROUND(SUM(J12*$F$2),2) -> 0 | C12: Honig, nach Belieben | F12: =SUM(E12*A12) -> 0 | J12: =I12/$I$2 -> 0
A13: =ROUND(SUM(J13*$F$2),2) -> 0 | F13: =SUM(E13*A13) -> 0 | J13: =I13/$I$2 -> 0
A14: =ROUND(SUM(J14*$F$2),2) -> 0 | C14: Vanille Glace | F14: =SUM(E14*A14) -> 0 | J14: =I14/$I$2 -> 0
A15: =ROUND(SUM(J15*$F$2),2) -> 0 | F15: =SUM(E15*A15) -> 0 | J15: =I15/$I$2 -> 0
A16: =ROUND(SUM(J16*$F$2),2) -> 0 | F16: =SUM(E16*A16) -> 0 | J16: =I16/$I$2 -> 0
A17: =ROUND(SUM(J17*$F$2),2) -> 0 | F17: =SUM(E17*A17) -> 0 | J17: =I17/$I$2 -> 0
A18: =ROUND(SUM(J18*$F$2),2) -> 0 | F18: =SUM(E18*A18) -> 0 | J18: =I18/$I$2 -> 0
A19: =ROUND(SUM(J19*$F$2),2) -> 0 | F19: =SUM(E19*A19) -> 0 | J19: =I19/$I$2 -> 0
A20: =ROUND(SUM(J20*$F$2),2) -> 0 | F20: =SUM(E20*A20) -> 0 | J20: =I20/$I$2 -> 0
A21: Zubereitung
A22: Mehl, Backpulver, Salz und Zucker in einer kleinen Schüssel vermischen, Wasser dazugeben und zu einem dickflüssigen Teig verrühren (Wasser kann auch um 1-2 EL varieren, je nach Mehltyp).
A24: Die Bananen in dicke Scheiben schneiden und stückweise durch den Teig ziehen und direkt danach in die Pfanne oder Fritteuse mit heißem Öl geben und ca. 2 Min frittieren, bis sie goldbraun sind.
A26: Anschließend kurz auf Küchenpapier abtropfen lassen, dann auf Teller und mit Honig beträufeln und genießen.
A27: Wie beim Chinesen um die Ecke, einfach lecker.

Sheet Dessert
E1: Chochete vom | F1: =SUM(Menu!B3) -> 43062 | I1: Original Rezept
A2: =Menu!B15 -> 0 | E2: Rezept für | F2: =SUM(Menu!B21) -> 4 | J2: Personen | L2: Menu Angaben wie folgt machen:
A3: Menge | B3: Einheit | C3: Artikel (Gewicht alles ca. Angaben) | D3: Bemerkungen | E3: Einkaufspreis | F3: Betrag | I3: Originalrezept | J3: pro Person
A4: =ROUND(SUM(J4*$F$2),2) -> #DIV/0! | F4: =SUM(E4*A4) -> #DIV/0! | J4: =I4/$I$2 -> #DIV/0! | L4: Kg | M4: 0.25
A5: =ROUND(SUM(J5*$F$2),2) -> #DIV/0! | F5: =SUM(E5*A5) -> #DIV/0! | J5: =I5/$I$2 -> #DIV/0! | L5: Lt | M5: 1.25
A6: =ROUND(SUM(J6*$F$2),2) -> #DIV/0! | F6: =SUM(E6*A6) -> #DIV/0! | J6: =I6/$I$2 -> #DIV/0! | L6: EL | M6: Esslöffel
A7: =ROUND(SUM(J7*$F$2),2) -> #DIV/0! | F7: =SUM(E7*A7) -> #DIV/0! | J7: =I7/$I$2 -> #DIV/0! | L7: KL | M7: Kaffeelöffel
A8: =ROUND(SUM(J8*$F$2),2) -> #DIV/0! | F8: =SUM(E8*A8) -> #DIV/0! | J8: =I8/$I$2 -> #DIV/0! | L8: Bund | M8: 1
A9: =ROUND(SUM(J9*$F$2),2) -> #DIV/0! | F9: =SUM(E9*A9) -> #DIV/0! | J9: =I9/$I$2 -> #DIV/0! | L9: Stk | M9: Stück
A10: =ROUND(SUM(J10*$F$2),2) -> #DIV/0! | F10: =SUM(E10*A10) -> #DIV/0! | J10: =I10/$I$2 -> #DIV/0! | L10: Pä | M10: Päckli
A11: =ROUND(SUM(J11*$F$2),2) -> #DIV/0! | F11: =SUM(E11*A11) -> #DIV/0! | J11: =I11/$I$2 -> #DIV/0! | L11: alles weitere ausschreiben
A12: =ROUND(SUM(J12*$F$2),2) -> #DIV/0! | F12: =SUM(E12*A12) -> #DIV/0! | J12: =I12/$I$2 -> #DIV/0!
A13: =ROUND(SUM(J13*$F$2),2) -> #DIV/0! | F13: =SUM(E13*A13) -> #DIV/0! | J13: =I13/$I$2 -> #DIV/0!
A14: =ROUND(SUM(J14*$F$2),2) -> #DIV/0! | F14: =SUM(E14*A14) -> #DIV/0! | J14: =I14/$I$2 -> #DIV/0!
A15: =ROUND(SUM(J15*$F$2),2) -> #DIV/0! | F15: =SUM(E15*A15) -> #DIV/0! | J15: =I15/$I$2 -> #DIV/0!
A16: =ROUND(SUM(J16*$F$2),2) -> #DIV/0! | F16: =SUM(E16*A16) -> #DIV/0! | J16: =I16/$I$2 -> #DIV/0!
A17: =ROUND(SUM(J17*$F$2),2) -> #DIV/0! | F17: =SUM(E17*A17) -> #DIV/0! | J17: =I17/$I$2 -> #DIV/0!
A18: =ROUND(SUM(J18*$F$2),2) -> #DIV/0! | F18: =SUM(E18*A18) -> #DIV/0! | J18: =I18/$I$2 -> #DIV/0!
A19: =ROUND(SUM(J19*$F$2),2) -> #DIV/0! | F19: =SUM(E19*A19) -> #DIV/0! | J19: =I19/$I$2 -> #DIV/0!
A20: =ROUND(SUM(J20*$F$2),2) -> #DIV/0! | F20: =SUM(E20*A20) -> #DIV/0! | J20: =I20/$I$2 -> #DIV/0!
A21: Zubereitung

Sheet Diverses
E1: Chochete vom | F1: =SUM(Menu!B3) -> 43062 | I1: Original Rezept
A2: =Menu!B17 -> 0 | E2: Rezept für | F2: =SUM(Menu!B21) -> 4 | I2: 4 | J2: Personen | L2: Menu Angaben wie folgt machen:
A3: Menge | B3: Einheit | C3: Artikel (Gewicht alles ca. Angaben) | D3: Bemerkungen | E3: Einkaufspreis | F3: Betrag | I3: Originalrezept | J3: pro Person
A4: =ROUND(SUM(J4*$F$2),2) -> 0 | F4: =SUM(E4*A4) -> 0 | J4: =I4/$I$2 -> 0 | L4: Kg | M4: 0.25
A5: =ROUND(SUM(J5*$F$2),2) -> 0 | F5: =SUM(E5*A5) -> 0 | J5: =I5/$I$2 -> 0 | L5: Lt | M5: 1.25
A6: =ROUND(SUM(J6*$F$2),2) -> 0 | F6: =SUM(E6*A6) -> 0 | J6: =I6/$I$2 -> 0 | L6: EL | M6: Esslöffel
A7: =ROUND(SUM(J7*$F$2),2) -> 0 | F7: =SUM(E7*A7) -> 0 | J7: =I7/$I$2 -> 0 | L7: KL | M7: Kaffeelöffel
A8: =ROUND(SUM(J8*$F$2),2) -> 0 | F8: =SUM(E8*A8) -> 0 | J8: =I8/$I$2 -> 0 | L8: Bund | M8: 1
A9: =ROUND(SUM(J9*$F$2),2) -> 0 | F9: =SUM(E9*A9) -> 0 | J9: =I9/$I$2 -> 0 | L9: Stk | M9: Stück
A10: =ROUND(SUM(J10*$F$2),2) -> 0 | F10: =SUM(E10*A10) -> 0 | J10: =I10/$I$2 -> 0 | L10: Pä | M10: Päckli
A11: =ROUND(SUM(J11*$F$2),2) -> 0 | F11: =SUM(E11*A11) -> 0 | J11: =I11/$I$2 -> 0 | L11: alles weitere ausschreiben
A12: =ROUND(SUM(J12*$F$2),2) -> 0 | F12: =SUM(E12*A12) -> 0 | J12: =I12/$I$2 -> 0
A13: =ROUND(SUM(J13*$F$2),2) -> 0 | F13: =SUM(E13*A13) -> 0 | J13: =I13/$I$2 -> 0
A14: =ROUND(SUM(J14*$F$2),2) -> 0 | F14: =SUM(E14*A14) -> 0 | J14: =I14/$I$2 -> 0
A15: =ROUND(SUM(J15*$F$2),2) -> 0 | F15: =SUM(E15*A15) -> 0 | J15: =I15/$I$2 -> 0
A16: =ROUND(SUM(J16*$F$2),2) -> 0 | F16: =SUM(E16*A16) -> 0 | J16: =I16/$I$2 -> 0
A17: =ROUND(SUM(J17*$F$2),2) -> 0 | F17: =SUM(E17*A17) -> 0 | J17: =I17/$I$2 -> 0
A18: =ROUND(SUM(J18*$F$2),2) -> 0 | F18: =SUM(E18*A18) -> 0 | J18: =I18/$I$2 -> 0
A19: =ROUND(SUM(J19*$F$2),2) -> 0 | F19: =SUM(E19*A19) -> 0 | J19: =I19/$I$2 -> 0
A20: =ROUND(SUM(J20*$F$2),2) -> 0 | F20: =SUM(E20*A20) -> 0 | J20: =I20/$I$2 -> 0
A21: Zubereitung

Sheet Einkaufsliste
A1: Hobby-Küche Zug | C1: Einkaufsliste | D1: =Dessert!F1 -> 43062 | E1: ok
A2: Menge | B2: Einheit | C2: Artikel
A3: ='Pfanne 1'!A2 -> Hähnchenspiesse mit Erdnusssauce | D3: Bemerkungen
A4: =SUM('Pfanne 1'!A4) -> 0.6 | B4: ='Pfanne 1'!B4 -> Kg | C4: ='Pfanne 1'!C4 -> Hähnchenbrustfilets | D4: ='Pfanne 1'!D4 -> 0
A5: =SUM('Pfanne 1'!A5) -> 0 | B5: ='Pfanne 1'!B5 -> 0 | C5: ='Pfanne 1'!#REF! -> #REF! | D5: ='Pfanne 1'!D5 -> 0
A6: =SUM('Pfanne 1'!A6) -> 1 | B6: ='Pfanne 1'!B6 -> EL | C6: ='Pfanne 1'!C6 -> Currypaste, rot | D6: ='Pfanne 1'!D6 -> 0
A7: =SUM('Pfanne 1'!A7) -> 1 | B7: ='Pfanne 1'!B7 -> EL | C7: ='Pfanne 1'!C7 -> Honig, flüssig | D7: ='Pfanne 1'!D7 -> 0
A8: =SUM('Pfanne 1'!A8) -> 3 | B8: ='Pfanne 1'!B8 -> EL | C8: ='Pfanne 1'!C8 -> Distelöl | D8: ='Pfanne 1'!D8 -> 0
A9: =SUM('Pfanne 1'!A9) -> 1 | B9: ='Pfanne 1'!B9 -> EL | C9: ='Pfanne 1'!C9 -> Sojasauce | D9: ='Pfanne 1'!D9 -> 0
A10: =SUM('Pfanne 1'!A10) -> 0 | B10: ='Pfanne 1'!B10 -> 0 | C10: ='Pfanne 1'!C10 -> Für die Sauce: | D10: ='Pfanne 1'!D10 -> 0
A11: =SUM('Pfanne 1'!A11) -> 3 | B11: ='Pfanne 1'!B11 -> EL | C11: ='Pfanne 1'!C11 -> Chilisauce, süß-scharf, für Hühnchen | D11: ='Pfanne 1'!D11 -> 0
A12: =SUM('Pfanne 1'!A12) -> 2 | B12: ='Pfanne 1'!B12 -> EL | C12: ='Pfanne 1'!C12 -> Erdnussbutter, ohne Stücke | D12: ='Pfanne 1'!D12 -> 0
A13: =SUM('Pfanne 1'!A13) -> 1 | B13: ='Pfanne 1'!B13 -> EL | C13: ='Pfanne 1'!C13 -> Sojasauce | D13: ='Pfanne 1'!D13 -> 0
A14: =SUM('Pfanne 1'!A14) -> 3 | B14: ='Pfanne 1'!B14 -> EL | C14: ='Pfanne 1'!C14 -> Milch | D14: ='Pfanne 1'!D14 -> 0
A15: =SUM('Pfanne 1'!A15) -> 0 | B15: ='Pfanne 1'!B15 -> 0 | C15: ='Pfanne 1'!C15 -> 0 | D15: ='Pfanne 1'!D15 -> 0
A16: =SUM('Pfanne 1'!A16) -> 0 | B16: ='Pfanne 1'!B16 -> 0 | C16: ='Pfanne 1'!C16 -> 0 | D16: ='Pfanne 1'!D16 -> 0
A17: =SUM('Pfanne 1'!A17) -> 0 | B17: ='Pfanne 1'!B17 -> 0 | C17: ='Pfanne 1'!C17 -> 0 | D17: ='Pfanne 1'!D17 -> 0
... A20: =SUM('Pfanne 1'!A20) -> 0 | B20: ='Pfanne 1'!B20 -> 0 | C20: ='Pfanne 1'!C20 -> 0 | D20: ='Pfanne 1'!D20 -> 0
A21: ='Pfanne 2'!A2 -> Rindfleisch nach Szechuan Art | D21: Bemerkungen
A22: =SUM('Pfanne 2'!A4) -> 0.45 | B22: ='Pfanne 2'!B4 -> Kg | C22: ='Pfanne 2'!C4 -> Rindshuft | D22: ='Pfanne 2'!D4 -> 0
A23: =SUM('Pfanne 2'!A5) -> 5 | B23: ='Pfanne 2'!B5 -> EL | C23: ='Pfanne 2'!C5 -> Sojasauce | D23: ='Pfanne 2'!D5 -> 0
A24: =SUM('Pfanne 2'!A6) -> 2 | B24: ='Pfanne 2'!B6 -> St | C24: ='Pfanne 2'!C6 -> Chilischoten | D24: ='Pfanne 2'!D6 -> 0
A25: =SUM('Pfanne 2'!A7) -> 1 | B25: ='Pfanne 2'!B7 -> Bund | C25: ='Pfanne 2'!C7 -> Frühlingszwiebeln | D25: ='Pfanne 2'!D7 -> 0
A26: =SUM('Pfanne 2'!A8) -> 3 | B26: ='Pfanne 2'!B8 -> St | C26: ='Pfanne 2'!C8 -> Knoblauchzehen | D26: ='Pfanne 2'!D8 -> 0
A27: =SUM('Pfanne 2'!A9) -> 1 | B27: ='Pfanne 2'!B9 -> Dose | C27: ='Pfanne 2'!C9 -> Bambussprossen à 230 g | D27: ='Pfanne 2'!D9 -> 0
A28: =SUM('Pfanne 2'!A10) -> 1 | B28: ='Pfanne 2'!B10 -> EL | C28: ='Pfanne 2'!C10 -> Maisstärke | D28: ='Pfanne 2'!D10 -> 0
A29: =SUM('Pfanne 2'!A11) -> 2 | B29: ='Pfanne 2'!B11 -> EL | C29: ='Pfanne 2'!C11 -> Distelöl | D29: ='Pfanne 2'!D11 -> 0
A30: =SUM('Pfanne 2'!A12) -> 2 | B30: ='Pfanne 2'!B12 -> Dl | C30: ='Pfanne 2'!C12 -> starke Rindsbouillon | D30: ='Pfanne 2'!D12 -> 0
A31: =SUM('Pfanne 2'!A13) -> 1 | B31: ='Pfanne 2'!B13 -> EL | C31: ='Pfanne 2'!C13 -> Rohzucker | D31: ='Pfanne 2'!D13 -> 0
A32: =SUM('Pfanne 2'!A14) -> 0 | B32: ='Pfanne 2'!B14 -> 0 | C32: ='Pfanne 2'!C14 -> 0 | D32: ='Pfanne 2'!D14 -> 0
A33: =SUM('Pfanne 2'!A15) -> 0 | B33: ='Pfanne 2'!B15 -> 0 | C33: ='Pfanne 2'!C15 -> 0 | D33: ='Pfanne 2'!D15 -> 0
... A38: =SUM('Pfanne 2'!A20) -> 0 | B38: ='Pfanne 2'!B20 -> 0 | C38: ='Pfanne 2'!C20 -> 0 | D38: ='Pfanne 2'!D20 -> 0
A39: ='Pfanne 3'!A2 -> Gebratene Nudeln | D39: Bemerkungen
A40: =SUM('Pfanne 3'!A4) -> 0.4 | B40: ='Pfanne 3'!B4 -> Kg | C40: ='Pfanne 3'!C4 -> Geflügelfleisch | D40: ='Pfanne 3'!D4 -> 0
A41: =SUM('Pfanne 3'!A5) -> 0.5 | B41: ='Pfanne 3'!B5 -> Kg | C41: ='Pfanne 3'!C5 -> chinesische Eiernudeln, gekocht | D41: ='Pfanne 3'!D5 -> 0
A42: =SUM('Pfanne 3'!A6) -> 0.2 | B42: ='Pfanne 3'!B6 -> Kg | C42: ='Pfanne 3'!C6 -> Sojasprossen | D42: ='Pfanne 3'!D6 -> 0
A43: =SUM('Pfanne 3'!A7) -> 2 | B43: ='Pfanne 3'!B7 -> St | C43: ='Pfanne 3'!C7 -> Frühlingszwiebeln | D43: ='Pfanne 3'!D7 -> 0
A44: =SUM('Pfanne 3'!A8) -> 0 | B44: ='Pfanne 3'!B8 -> 0 | C44: ='Pfanne 3'!C8 -> Distelöl | D44: ='Pfanne 3'!D8 -> 0
A45: =SUM('Pfanne 3'!A9) -> 0 | B45: ='Pfanne 3'!B9 -> 0 | C45: ='Pfanne 3'!C9 -> Sojasauce | D45: ='Pfanne 3'!D9 -> 0
A46: =SUM('Pfanne 3'!A10) -> 0 | B46: ='Pfanne 3'!B10 -> 0 | C46: ='Pfanne 3'!C10 -> Sambal Oelek | D46: ='Pfanne 3'!D10 -> 0
...
