Workbook

Sheet Menu
B1: China
A3: Datum | B3: 43062
A5: Pfanne 1 | B5: Hähnchenspiesse mit Erdnusssauce
A7: Pfanne 2 | B7: Rindfleisch nach Szechuan Art
A9: Pfanne 3 | B9: Gebratene Nudeln
A11: Pfanne 4 | B11: Chinesisches Gemüse
A13: Pfanne 5 | B13: Gebackene Banane mit Honig
A17: Diverses
A19: Menu von Tisch | B19: D
A21: Personenzahl | B21: 4

Sheet Pfanne 1
E1: Chochete vom | F1: =SUM(Menu!B3) -> 43062 | I1: Original Rezept
A2: =Menu!B5 -> Hähnchenspiesse mit Erdnusssauce | E2: Rezept für | F2: =SUM(Menu!B21) -> 4 | I2: 4 | J2: Personen
A3: Menge | B3: Einheit | C3: Artikel (Gewicht alles ca. Angaben) | D3: Bemerkungen | E3: Einkaufspreis | F3: Betrag | I3: Originalrezept | J3: pro Person
A4: =ROUND(SUM(J4*$F$2),2) -> 0.6 | B4: Kg | C4: Hähnchenbrustfilets | F4: =SUM(E4*A4) -> 0 | I4: 0.6 | J4: =I4/$I$2 -> 0.15
A5: =ROUND(SUM(J5*$F$2),2) -> 0 | C5: Für die Marinade: | F5: =SUM(E5*A5) -> 0 | J5: =I5/$I$2 -> 0
A6: =ROUND(SUM(J6*$F$2),2) -> 1 | B6: EL | C6: Currypaste, rot | F6: =SUM(E6*A6) -> 0 | I6: 1 | J6: =I6/$I$2 -> 0.25
A7: =ROUND(SUM(J7*$F$2),2) -> 1 | B7: EL | C7: Honig, flüssig | F7: =SUM(E7*A7) -> 0 | I7: 1 | J7: =I7/$I$2 -> 0.25
A8: =ROUND(SUM(J8*$F$2),2) -> 3 | B8: EL | C8: Distelöl | F8: =SUM(E8*A8) -> 0 | I8: 3 | J8: =I8/$I$2 -> 0.75
A9: =ROUND(SUM(J9*$F$2),2) -> 1 | B9: EL | C9: Sojasauce | F9: =SUM(E9*A9) -> 0 | I9: 1 | J9: =I9/$I$2 -> 0.25
A10: =ROUND(SUM(J10*$F$2),2) -> 0 | C10: Für die Sauce: | F10: =SUM(E10*A10) -> 0 | J10: =I10/$I$2 -> 0
A11: =ROUND(SUM(J11*$F$2),2) -> 3 | B11: EL | C11: Chilisauce, süß-scharf, für Hühnchen | F11: =SUM(E11*A11) -> 0 | I11: 3 | J11: =I11/$I$2 -> 0.75
A12: =ROUND(SUM(J12*$F$2),2) -> 2 | B12: EL | C12: Erdnussbutter, ohne Stücke | F12: =SUM(E12*A12) -> 0 | I12: 2 | J12: =I12/$I$2 -> 0.5
A13: =ROUND(SUM(J13*$F$2),2) -> 1 | B13: EL | C13: Sojasauce | F13: =SUM(E13*A13) -> 0 | I13: 1 | J13: =I13/$I$2 -> 0.25
A14: =ROUND(SUM(J14*$F$2),2) -> 3 | B14: EL | C14: Milch | F14: =SUM(E14*A14) -> 0 | I14: 3 | J14: =I14/$I$2 -> 0.75
A15: =ROUND(SUM(J15*$F$2),2) -> 0 | F15: =SUM(E15*A15) -> 0 | J15: =I15/$I$2 -> 0
A16: =ROUND(SUM(J16*$F$2),2) -> 0 | F16: =SUM(E16*A16) -> 0 | J16: =I16/$I$2 -> 0
A17: =ROUND(SUM(J17*$F$2),2) -> 0 | F17: =SUM(E17*A17) -> 0 | J17: =I17/$I$2 -> 0
A18: =ROUND(SUM(J18*$F$2),2) -> 0 | F18: =SUM(E18*A18) -> 0 | J18: =I18/$I$2 -> 0
A19: =ROUND(SUM(J19*$F$2),2) -> 0 | F19: =SUM(E19*A19) -> 0 | J19: =I19/$I$2 -> 0
A20: =ROUND(SUM(J20*$F$2),2) -> 0 | F20: =SUM(E20*A20) -> 0 | J20: =I20/$I$2 -> 0
A21: Zubereitung
A22: Hähnchenbrustfilets der Länge nach halbieren und dann in dünne Scheiben schneiden. Aus einem Filet erhält man etwa 6-7 Scheiben. Das Fleisch wellenförmig auf die Spieße stecken.
A23: Aus Currypaste, Honig, Öl und 1 EL Sojasauce eine Marinade zubereiten und die Spieße damit einpinseln. Mind. 1 Stunde ziehen lassen.
A24: Ofen vorheizen auf 200 Grad Umluft.
A25: Die Spieße auf einem mit Backpapier belegten Backblech verteilen, die Enden der Spieße sollten ein wenig über den Rand gelegt werden, damit sie nicht mit der Marinade in Berührung kommen, brennt sonst an.
A26: Auf der mittleren Schiene dann von jeder Seite 8 Min. braten.
A27: Für 40 Spieße werden 2 Bratdurchgänge benötigt, es passen etwa 20 Stück auf 1 Blech.
A28: Die gebratenen Spieße herausnehmen und am besten über Kopf in einer Schüssel abtropfen lassen.
A29: Für die Sauce die Chilisauce, Erdnussbutter, 1 EL Sojasauce und die Milch mit einem Handrührgerät vermengen. Je flüssiger die Sauce werden soll, umso mehr Milch gibt man hinzu.
A30: Die Spieße dann von beiden Seiten mit der Sauce einstreichen.
A31: Passt super zu einem kalten Buffet, für weniger Personen mit z.B. einem Salat als Hauptgericht oder auch als Vorspeise.

Sheet Pfanne 2
E1: Chochete vom | F1: =SUM(Menu!B3) -> 43062 | I1: Original Rezept
A2: =Menu!B7 -> Rindfleisch nach Szechuan Art | E2: Rezept für | F2: =SUM(Menu!B21) -> 4 | I2: 4 | J2: Personen
A3: Menge | B3: Einheit | C3: Artikel (Gewicht alles ca. Angaben) | D3: Bemerkungen | E3: Einkaufspreis | F3: Betrag | I3: Originalrezept | J3: pro Person
A4: =ROUND(SUM(J4*$F$2),2) -> 0.45 | B4: Kg | C4: Rindshuft | F4: =SUM(E4*A4) -> 0 | I4: 0.45 | J4: =I4/$I$2 -> 0.1125
A5: =ROUND(SUM(J5*$F$2),2) -> 5 | B5: EL | C5: Sojasauce | F5: =SUM(E5*A5) -> 0 | I5: 5 | J5: =I5/$I$2 -> 1.25
A6: =ROUND(SUM(J6*$F$2),2) -> 2 | B6: St | C6: Chilischoten | F6: =SUM(E6*A6) -> 0 | I6: 2 | J6: =I6/$I$2 -> 0.5
A7: =ROUND(SUM(J7*$F$2),2) -> 1 | B7: Bund | C7: Frühlingszwiebeln | F7: =SUM(E7*A7) -> 0 | I7: 1 | J7: =I7/$I$2 -> 0.25
A8: =ROUND(SUM(J8*$F$2),2) -> 3 | B8: St | C8: Knoblauchzehen | F8: =SUM(E8*A8) -> 0 | I8: 3 | J8: =I8/$I$2 -> 0.75
A9: =ROUND(SUM(J9*$F$2),2) -> 1 | B9: Dose | C9: Bambussprossen à 230 g | F9: =SUM(E9*A9) -> 0 | I9: 1 | J9: =I9/$I$2 -> 0.25
A10: =ROUND(SUM(J10*$F$2),2) -> 1 | B10: EL | C10: Maisstärke | F10: =SUM(E10*A10) -> 0 | I10: 1 | J10: =I10/$I$2 -> 0.25
A11: =ROUND(SUM(J11*$F$2),2) -> 2 | B11: EL | C11: Distelöl | F11: =SUM(E11*A11) -> 0 | I11: 2 | J11: =I11/$I$2 -> 0.5
A12: =ROUND(SUM(J12*$F$2),2) -> 2 | B12: Dl | C12: starke Rindsbouillon | F12: =SUM(E12*A12) -> 0 | I12: 2 | J12: =I12/$I$2 -> 0.5
A13: =ROUND(SUM(J13*$F$2),2) -> 1 | B13: EL | C13: Rohzucker | F13: =SUM(E13*A13) -> 0 | I13: 1 | J13: =I13/$I$2 -> 0.25
A14: =ROUND(SUM(J14*$F$2),2) -> 0 | F14: =SUM(E14*A14) -> 0 | J14: =I14/$I$2 -> 0
A15: =ROUND(SUM(J15*$F$2),2) -> 0 | F15: =SUM(E15*A15) -> 0 | J15: =I15/$I$2 -> 0
A16: =ROUND(SUM(J16*$F$2),2) -> 0 | F16: =SUM(E16*A16) -> 0 | J16: =I16/$I$2 -> 0
A17: =ROUND(SUM(J17*$F$2),2) -> 0 | F17: =SUM(E17*A17) -> 0 | J17: =I17/$I$2 -> 0
A18: =ROUND(SUM(J18*$F$2),2) -> 0 | F18: =SUM(E18*A18) -> 0 | J18: =I18/$I$2 -> 0
A19: =ROUND(SUM(J19*$F$2),2) -> 0 | F19: =SUM(E19*A19) -> 0 | J19: =I19/$I$2 -> 0
A20: =ROUND(SUM(J20*$F$2),2) -> 0 | F20: =SUM(E20*A20) -> 0 | J20: =I20/$I$2 -> 0
A21: Zubereitung
A22: Fleisch in ca. 5 cm lange, 1 cm breite Streifen schneiden. Mit Sojasauce mischen. Chilis halbieren, entkernen und in Streifen, Zwiebeln in Stücke, Knoblauch in Scheiben schneiden. Bambussprossen abgiessen. Maisstärke mit wenig Wasser anrühren. Fleisch aus der Sojasauce heben. Abtropfen lassen, Sauce auffangen. Fleisch im Öl kurz anbraten. Chilis, Zwiebeln, Knoblauch und Bambussprossen dazugeben. Alles ca. 2 Minuten braten. Aufgefangene Sojasauce, Bouillon und Zucker dazugeben. Aufkochen, Maisstärke dazugiessen, Sauce sämig einkochen lassen. Dazu passen China-Nudeln.

Sheet Pfanne 3
E1: Chochete vom | F1: =SUM(Menu!B3) -> 43062 | I1: Original Rezept
A2: =Menu!B9 -> Gebratene Nudeln | E2: Rezept für | F2: =Menu!B21 -> 4 | I2: 4 | J2: Personen
A3: Menge | B3: Einheit | C3: Artikel (Gewicht alles ca. Angaben) | D3: Bemerkungen | E3: Einkaufspreis | F3: Betrag | I3: Originalrezept | J3: pro Person
A4: =ROUND(SUM(J4*$F$2),2) -> 0.4 | B4: Kg | C4: Geflügelfleisch | F4: =SUM(E4*A4) -> 0 | I4: 0.4 | J4: =I4/$I$2 -> 0.1
A5: =ROUND(SUM(J5*$F$2),2) -> 0.5 | B5: Kg | C5: chinesische Eiernudeln, gekocht | F5: =SUM(E5*A5) -> 0 | I5: 0.5 | J5: =I5/$I$2 -> 0.125
A6: =ROUND(SUM(J6*$F$2),2) -> 0.2 | B6: Kg | C6: Sojasprossen | F6: =SUM(E6*A6) -> 0 | I6: 0.2 | J6: =I6/$I$2 -> 0.05
A7: =ROUND(SUM(J7*$F$2),2) -> 2 | B7: St | C7: Frühlingszwiebeln | F7: =SUM(E7*A7) -> 0 | I7: 2 | J7: =I7/$I$2 -> 0.5
A8: =ROUND(SUM(J8*$F$2),2) -> 0 | C8: Distelöl | F8: =SUM(E8*A8) -> 0 | J8: =I8/$I$2 -> 0
A9: =ROUND(SUM(J9*$F$2),2) -> 0 | C9: Sojasauce | F9: =SUM(E9*A9) -> 0 | J9: =I9/$I$2 -> 0
A10: =ROUND(SUM(J10*$F$2),2) -> 0 | C10: Sambal Oelek | F10: =SUM(E10*A10) -> 0 | J10: =I10/$I$2 -> 0
A11: =ROUND(SUM(J11*$F$2),2) -> 0 | C11: Paprikapulver | F11: =SUM(E11*A11) -> 0 | J11: =I11/$I$2 -> 0
A12: =ROUND(SUM(J12*$F$2),2) -> 0 | C12: Curry | F12: =SUM(E12*A12) -> 0 | J12: =I12/$I$2 -> 0
A13: =ROUND(SUM(J13*$F$2),2) -> 0 | F13: =SUM(E13*A13) -> 0 | J13: =I13/$I$2 -> 0
A14: =ROUND(SUM(J14*$F$2),2) -> 0 | F14: =SUM(E14*A14) -> 0 | J14: =I14/$I$2 -> 0
A15: =ROUND(SUM(J15*$F$2),2) -> 0 | F15: =SUM(E15*A15) -> 0 | J15: =I15/$I$2 -> 0
A16: =ROUND(SUM(J16*$F$2),2) -> 0 | F16: =SUM(E16*A16) -> 0 | J16: =I16/$I$2 -> 0
A17: =ROUND(SUM(J17*$F$2),2) -> 0 | F17: =SUM(E17*A17) -> 0 | J17: =I17/$I$2 -> 0
A18: =ROUND(SUM(J18*$F$2),2) -> 0 | F18: =SUM(E18*A18) -> 0 | J18: =I18/$I$2 -> 0
A19: =ROUND(SUM(J19*$F$2),2) -> 0 | F19: =SUM(E19*A19) -> 0 | J19: =I19/$I$2 -> 0
A20: =ROUND(SUM(J20*$F$2),2) -> 0 | F20: =SUM(E20*A20) -> 0 | J20: =I20/$I$2 -> 0
A21: Zubereitung
A22: Man verwendet hier bereits gekochte Nudeln.
A23: Das Fleisch in feine Streifen schneiden und mit Sojasoße und Sambal Oelek vorwürzen. 5 EL Öl und 1 TL Sojasoße vermischen und in einen Wok oder eine Pfanne geben. Das Fleisch anbraten und dann die Sprossen dazugeben. Kurz danach die Nudeln zugeben. Ca. 5 Minuten weiter braten lassen und regelmäßig wenden. Zum Schluss mit den angegebenen Gewürzen nach Geschmack würzen.

Sheet Pfanne 4
E1: Chochete vom | F1: =SUM(Menu!B3) -> 43062 | I1: Original Rezept
A2: =Menu!B11 -> Chinesisches Gemüse | E2: Rezept für | F2: =SUM(Menu!B21) -> 4 | I2: 4 | J2: Personen
A3: Menge | B3: Einheit | C3: Artikel (Gewicht alles ca. Angaben) | D3: Bemerkungen | E3: Einkaufspreis | F3: Betrag | I3: Originalrezept | J3: pro Person
A4: =ROUND(SUM(J4*$F$2),2) -> 2 | B4: St | C4: Frühlingszwiebeln | F4: =SUM(E4*A4) -> 0 | I4: 2 | J4: =I4/$I$2 -> 0.5
A5: =ROUND(SUM(J5*$F$2),2) -> 0.15 | B5: Kg | C5: Stangensellerie | F5: =SUM(E5*A5) -> 0 | I5: 0.15 | J5: =I5/$I$2 -> 0.0375
A6: =ROUND(SUM(J6*$F$2),2) -> 0.15 | B6: Kg | C6: rote Peperoni | F6: =SUM(E6*A6) -> 0 | I6: 0.15 | J6: =I6/$I$2 -> 0.0375
A7: =ROUND(SUM(J7*$F$2),2) -> 0.15 | B7: Kg | C7: Rüebli | F7: =SUM(E7*A7) -> 0 | I7: 0.15 | J7: =I7/$I$2 -> 0.0375
A8: =ROUND(SUM(J8*$F$2),2) -> 2 | B8: St | C8: Scheiben frischer Ingwer, gequetscht | F8: =SUM(E8*A8) -> 0 | I8: 2 | J8: =I8/$I$2 -> 0.5
A9: =ROUND(SUM(J9*$F$2),2) -> 1 | B9: St | C9: Knoblauchzehe, gequetscht | F9: =SUM(E9*A9) -> 0 | I9: 1 | J9: =I9/$I$2 -> 0.25
A10: =ROUND(SUM(J10*$F$2),2) -> 1 | B10: TL | C10: Pfeffer | F10: =SUM(E10*A10) -> 0 | I10: 1 | J10: =I10/$I$2 -> 0.25
A11: =ROUND(SUM(J11*$F$2),2) -> 2 | B11: EL | C11: Diestelöl | F11: =SUM(E11*A11) -> 0 | I11: 2 | J11: =I11/$I$2 -> 0.5
A12: =ROUND(SUM(J12*$F$2),2) -> 0.15 | B12: Kg | C12: tiefgekühlte Kefen | F12: =SUM(E12*A12) -> 0 | I12: 0.15 | J12: =I12/$I$2 -> 0.0375
A13: =ROUND(SUM(J13*$F$2),2) -> 0.15 | B13: Kg | C13: Lauch, in feinen Streifen | F13: =SUM(E13*A13) -> 0 | I13: 0.15 | J13: =I13/$I$2 -> 0.0375
A14: =ROUND(SUM(J14*$F$2),2) -> 1.5 | B14: DL | C14: Gemüsebouillon | F14: =SUM(E14*A14) -> 0 | I14: 1.5 | J14: =I14/$I$2 -> 0.375
A15: =ROUND(SUM(J15*$F$2),2) -> 2 | B15: EL | C15: Sojasauce | F15: =SUM(E15*A15) -> 0 | I15: 2 | J15: =I15/$I$2 -> 0.5
... A19: =ROUND(SUM(J19*$F$2),2) -> 2 | B19: St | C19: kleine Frühlingszwiebeln, in Kronen, für die Garnitur | F19: =SUM(E19*A19) -> 0 | I19: 2 | J19: =I19/$I$2 -> 0.5
A20: =ROUND(SUM(J20*$F$2),2) -> 0 | F20: =SUM(E20*A20) -> 0 | J20: =I20/$I$2 -> 0
A21: Zubereitung
A22: Alle Zutaten bis und mit Rüebli in feine Streifen schneiden. Ingwer, Knoblauch und Pfeffer im Wok oder in einer grossen Bratpfanne im heissen Öl rösten, herausnehmen. Gemüse hineingeben, ca. 3 Min. rührbraten. Kefen beifügen, ca. 1 Min. weiter rührbraten. Lauch beigeben, nochmals 1 Min. rührbraten. Bouillon, Sojasauce und Austernsauce zugeben, Gemüse ca. 4 Min. köcheln. Maizena mit dem Wasser anrühren, dazugiessen, ca. 2 Min.weiterköcheln, bis die Sauce gebunden ist, sofort anrichten, garnieren

Sheet Pfanne 5
E1: Chochete vom | F1: =SUM(Menu!B3) -> 43062 | I1: Original Rezept
A2: =Menu!B13 -> Gebackene Banane mit Honig | E2: Rezept für | F2: 4 | I2: 4 | J2: Personen
A3: Menge | B3: Einheit | C3: Artikel (Gewicht alles ca. Angaben) | D3: Bemerkungen | E3: Einkaufspreis | F3: Betrag | J3: pro Person
A4: =ROUND(SUM(J4*$F$2),2) -> 2 | B4: St | C4: Bananen | F4: =SUM(E4*A4) -> 0 | I4: 2 | J4: =I4/$I$2 -> 0.5
A5: =ROUND(SUM(J5*$F$2),2) -> 0 | C5: Für den Teig: | F5: =SUM(E5*A5) -> 0 | J5: =I5/$I$2 -> 0
A6: =ROUND(SUM(J6*$F$2),2) -> 0.08 | B6: Kg | C6: Mehl | F6: =SUM(E6*A6) -> 0 | I6: 0.08 | J6: =I6/$I$2 -> 0.02
A7: =ROUND(SUM(J7*$F$2),2) -> 1 | B7: TL | C7: Backpulver | F7: =SUM(E7*A7) -> 0 | I7: 1 | J7: =I7/$I$2 -> 0.25
A8: =ROUND(SUM(J8*$F$2),2) -> 1 | B8: Prise | C8: Salz | F8: =SUM(E8*A8) -> 0 | I8: 1 | J8: =I8/$I$2 -> 0.25
A9: =ROUND(SUM(J9*$F$2),2) -> 1 | B9: EL | C9: Rohzucker | F9: =SUM(E9*A9) -> 0 | I9: 1 | J9: =I9/$I$2 -> 0.25
A10: =ROUND(SUM(J10*$F$2),2) -> 8 | B10: EL | C10: Wasser | F10: =SUM(E10*A10) -> 0 | I10: 8 | J10: =I10/$I$2 -> 2
A11: =ROUND(SUM(J11*$F$2),2) -> 0 | C11: Öl, zum Ausbacken | F11: =SUM(E11*A11) -> 0 | J11: =I11/$I$2 -> 0
A12: =ROUND(SUM(J12*$F$2),2) -> 0 | C12: Honig, nach Belieben | F12: =SUM(E12*A12) -> 0 | J12: =I12/$I$2 -> 0
A13: =ROUND(SUM(J13*$F$2),2) -> 0 | F13: =SUM(E13*A13) -> 0 | J13: =I13/$I$2 -> 0
A14: =ROUND(SUM(J14*$F$2),2) -> 0 | C14: Vanille Glace | F14: =SUM(E14*A14) -> 0 | J14: =I14/$I$2 -> 0
A15: =ROUND(SUM(J15*$F$2),2) -> 0 | F15: =SUM(E15*A15) -> 0 | J15: =I15/$I$2 -> 0
A16: =ROUND(SUM(J16*$F$2),2) -> 0 | F16: =SUM(E16*A16) -> 0 | J16: =I16/$I$2 -> 0
A17: =ROUND(SUM(J17*$F$2),2) -> 0 | F17: =SUM(E17*A17) -> 0 | J17: =I17/$I$2 -> 0
A18: =ROUND(SUM(J18*$F$2),2) -> 0 | F18: =SUM(E18*A18) -> 0 | J18: =I18/$I$2 -> 0
A19: =ROUND(SUM(J19*$F$2),2) -> 0 | F19: =SUM(E19*A19) -> 0 | J19: =I19/$I$2 -> 0
A20: =ROUND(SUM(J20*$F$2),2) -> 0 | F20: =SUM(E20*A20) -> 0 | J20: =I20/$I$2 -> 0
A21: Zubereitung
A22: Mehl, Backpulver, Salz und Zucker in einer kleinen Schüssel vermischen, Wasser dazugeben und zu einem dickflüssigen Teig verrühren (Wasser kann auch um 1-2 EL varieren, je nach Mehltyp).
A24: Die Bananen in dicke Scheiben schneiden und stückweise durch den Teig ziehen und direkt danach in die Pfanne oder Fritteuse mit heißem Öl geben und ca. 2 Min frittieren, bis sie goldbraun sind.
A26: Anschließend kurz auf Küchenpapier abtropfen lassen, dann auf Teller und mit Honig beträufeln und genießen.
A27: Wie beim Chinesen um die Ecke, einfach lecker.

Sheet Dessert
E1: Chochete vom | F1: =SUM(Menu!B3) -> 43062 | I1: Original Rezept
A2: =Menu!B15 -> 0 | E2: Rezept für | F2: =SUM(Menu!B21) -> 4 | J2: Personen | L2: Menu Angaben wie folgt machen:
A3: Menge | B3: Einheit | C3: Artikel (Gewicht alles ca. Angaben) | D3: Bemerkungen | E3: Einkaufspreis | F3: Betrag | I3: Originalrezept | J3: pro Person
A4: =ROUND(SUM(J4*$F$2),2) -> #DIV/0! | F4: =SUM(E4*A4) -> #DIV/0! | J4: =I4/$I$2 -> #DIV/0! | L4: Kg | M4: 0.25
A5: =ROUND(SUM(J5*$F$2),2) -> #DIV/0! | F5: =SUM(E5*A5) -> #DIV/0! | J5: =I5/$I$2 -> #DIV/0! | L5: Lt | M5: 1.25
A6: =ROUND(SUM(J6*$F$2),2) -> #DIV/0! | F6: =SUM(E6*A6) -> #DIV/0! | J6: =I6/$I$2 -> #DIV/0! | L6: EL | M6: Esslöffel
A7: =ROUND(SUM(J7*$F$2),2) -> #DIV/0! | F7: =SUM(E7*A7) -> #DIV/0! | J7: =I7/$I$2 -> #DIV/0! | L7: KL | M7: Kaffeelöffel
A8: =ROUND(SUM(J8*$F$2),2) -> #DIV/0! | F8: =SUM(E8*A8) -> #DIV/0! | J8: =I8/$I$2 -> #DIV/0! | L8: Bund | M8: 1
A9: =ROUND(SUM(J9*$F$2),2) -> #DIV/0! | F9: =SUM(E9*A9) -> #DIV/0! | J9: =I9/$I$2 -> #DIV/0! | L9: Stk | M9: Stück
A10: =ROUND(SUM(J10*$F$2),2) -> #DIV/0! | F10: =SUM(E10*A10) -> #DIV/0! | J10: =I10/$I$2 -> #DIV/0! | L10: Pä | M10: Päckli
A11: =ROUND(SUM(J11*$F$2),2) -> #DIV/0! | F11: =SUM(E11*A11) -> #DIV/0! | J11: =I11/$I$2 -> #DIV/0! | L11: alles weitere ausschreiben
A12: =ROUND(SUM(J12*$F$2),2) -> #DIV/0! | F12: =SUM(E12*A12) -> #DIV/0! | J12: =I12/$I$2 -> #DIV/0!
A13: =ROUND(SUM(J13*$F$2),2) -> #DIV/0! | F13: =SUM(E13*A13) -> #DIV/0! | J13: =I13/$I$2 -> #DIV/0!
A14: =ROUND(SUM(J14*$F$2),2) -> #DIV/0! | F14: =SUM(E14*A14) -> #DIV/0! | J14: =I14/$I$2 -> #DIV/0!
A15: =ROUND(SUM(J15*$F$2),2) -> #DIV/0! | F15: =SUM(E15*A15) -> #DIV/0! | J15: =I15/$I$2 -> #DIV/0!
A16: =ROUND(SUM(J16*$F$2),2) -> #DIV/0! | F16: =SUM(E16*A16) -> #DIV/0! | J16: =I16/$I$2 -> #DIV/0!
A17: =ROUND(SUM(J17*$F$2),2) -> #DIV/0! | F17: =SUM(E17*A17) -> #DIV/0! | J17: =I17/$I$2 -> #DIV/0!
A18: =ROUND(SUM(J18*$F$2),2) -> #DIV/0! | F18: =SUM(E18*A18) -> #DIV/0! | J18: =I18/$I$2 -> #DIV/0!
A19: =ROUND(SUM(J19*$F$2),2) -> #DIV/0! | F19: =SUM(E19*A19) -> #DIV/0! | J19: =I19/$I$2 -> #DIV/0!
A20: =ROUND(SUM(J20*$F$2),2) -> #DIV/0! | F20: =SUM(E20*A20) -> #DIV/0! | J20: =I20/$I$2 -> #DIV/0!
A21: Zubereitung

Sheet Diverses
E1: Chochete vom | F1: =SUM(Menu!B3) -> 43062 | I1: Original Rezept
A2: =Menu!B17 -> 0 | E2: Rezept für | F2: =SUM(Menu!B21) -> 4 | I2: 4 | J2: Personen | L2: Menu Angaben wie folgt machen:
A3: Menge | B3: Einheit | C3: Artikel (Gewicht alles ca. Angaben) | D3: Bemerkungen | E3: Einkaufspreis | F3: Betrag | I3: Originalrezept | J3: pro Person
A4: =ROUND(SUM(J4*$F$2),2) -> 0 | F4: =SUM(E4*A4) -> 0 | J4: =I4/$I$2 -> 0 | L4: Kg | M4: 0.25
A5: =ROUND(SUM(J5*$F$2),2) -> 0 | F5: =SUM(E5*A5) -> 0 | J5: =I5/$I$2 -> 0 | L5: Lt | M5: 1.25
A6: =ROUND(SUM(J6*$F$2),2) -> 0 | F6: =SUM(E6*A6) -> 0 | J6: =I6/$I$2 -> 0 | L6: EL | M6: Esslöffel
A7: =ROUND(SUM(J7*$F$2),2) -> 0 | F7: =SUM(E7*A7) -> 0 | J7: =I7/$I$2 -> 0 | L7: KL | M7: Kaffeelöffel
A8: =ROUND(SUM(J8*$F$2),2) -> 0 | F8: =SUM(E8*A8) -> 0 | J8: =I8/$I$2 -> 0 | L8: Bund | M8: 1
A9: =ROUND(SUM(J9*$F$2),2) -> 0 | F9: =SUM(E9*A9) -> 0 | J9: =I9/$I$2 -> 0 | L9: Stk | M9: Stück
A10: =ROUND(SUM(J10*$F$2),2) -> 0 | F10: =SUM(E10*A10) -> 0 | J10: =I10/$I$2 -> 0 | L10: Pä | M10: Päckli
A11: =ROUND(SUM(J11*$F$2),2) -> 0 | F11: =SUM(E11*A11) -> 0 | J11: =I11/$I$2 -> 0 | L11: alles weitere ausschreiben
A12: =ROUND(SUM(J12*$F$2),2) -> 0 | F12: =SUM(E12*A12) -> 0 | J12: =I12/$I$2 -> 0
A13: =ROUND(SUM(J13*$F$2),2) -> 0 | F13: =SUM(E13*A13) -> 0 | J13: =I13/$I$2 -> 0
A14: =ROUND(SUM(J14*$F$2),2) -> 0 | F14: =SUM(E14*A14) -> 0 | J14: =I14/$I$2 -> 0
A15: =ROUND(SUM(J15*$F$2),2) -> 0 | F15: =SUM(E15*A15) -> 0 | J15: =I15/$I$2 -> 0
A16: =ROUND(SUM(J16*$F$2),2) -> 0 | F16: =SUM(E16*A16) -> 0 | J16: =I16/$I$2 -> 0
A17: =ROUND(SUM(J17*$F$2),2) -> 0 | F17: =SUM(E17*A17) -> 0 | J17: =I17/$I$2 -> 0
A18: =ROUND(SUM(J18*$F$2),2) -> 0 | F18: =SUM(E18*A18) -> 0 | J18: =I18/$I$2 -> 0
A19: =ROUND(SUM(J19*$F$2),2) -> 0 | F19: =SUM(E19*A19) -> 0 | J19: =I19/$I$2 -> 0
A20: =ROUND(SUM(J20*$F$2),2) -> 0 | F20: =SUM(E20*A20) -> 0 | J20: =I20/$I$2 -> 0
A21: Zubereitung

Sheet Einkaufsliste
A1: Hobby-Küche Zug | C1: Einkaufsliste | D1: =Dessert!F1 -> 43062 | E1: ok
A2: Menge | B2: Einheit | C2: Artikel
A3: ='Pfanne 1'!A2 -> Hähnchenspiesse mit Erdnusssauce | D3: Bemerkungen
A4: =SUM('Pfanne 1'!A4) -> 0.6 | B4: ='Pfanne 1'!B4 -> Kg | C4: ='Pfanne 1'!C4 -> Hähnchenbrustfilets | D4: ='Pfanne 1'!D4 -> 0
A5: =SUM('Pfanne 1'!A5) -> 0 | B5: ='Pfanne 1'!B5 -> 0 | C5: ='Pfanne 1'!#REF! -> #REF! | D5: ='Pfanne 1'!D5 -> 0
A6: =SUM('Pfanne 1'!A6) -> 1 | B6: ='Pfanne 1'!B6 -> EL | C6: ='Pfanne 1'!C6 -> Currypaste, rot | D6: ='Pfanne 1'!D6 -> 0
A7: =SUM('Pfanne 1'!A7) -> 1 | B7: ='Pfanne 1'!B7 -> EL | C7: ='Pfanne 1'!C7 -> Honig, flüssig | D7: ='Pfanne 1'!D7 -> 0
A8: =SUM('Pfanne 1'!A8) -> 3 | B8: ='Pfanne 1'!B8 -> EL | C8: ='Pfanne 1'!C8 -> Distelöl | D8: ='Pfanne 1'!D8 -> 0
A9: =SUM('Pfanne 1'!A9) -> 1 | B9: ='Pfanne 1'!B9 -> EL | C9: ='Pfanne 1'!C9 -> Sojasauce | D9: ='Pfanne 1'!D9 -> 0
A10: =SUM('Pfanne 1'!A10) -> 0 | B10: ='Pfanne 1'!B10 -> 0 | C10: ='Pfanne 1'!C10 -> Für die Sauce: | D10: ='Pfanne 1'!D10 -> 0
A11: =SUM('Pfanne 1'!A11) -> 3 | B11: ='Pfanne 1'!B11 -> EL | C11: ='Pfanne 1'!C11 -> Chilisauce, süß-scharf, für Hühnchen | D11: ='Pfanne 1'!D11 -> 0
A12: =SUM('Pfanne 1'!A12) -> 2 | B12: ='Pfanne 1'!B12 -> EL | C12: ='Pfanne 1'!C12 -> Erdnussbutter, ohne Stücke | D12: ='Pfanne 1'!D12 -> 0
A13: =SUM('Pfanne 1'!A13) -> 1 | B13: ='Pfanne 1'!B13 -> EL | C13: ='Pfanne 1'!C13 -> Sojasauce | D13: ='Pfanne 1'!D13 -> 0
A14: =SUM('Pfanne 1'!A14) -> 3 | B14: ='Pfanne 1'!B14 -> EL | C14: ='Pfanne 1'!C14 -> Milch | D14: ='Pfanne 1'!D14 -> 0
A15: =SUM('Pfanne 1'!A15) -> 0 | B15: ='Pfanne 1'!B15 -> 0 | C15: ='Pfanne 1'!C15 -> 0 | D15: ='Pfanne 1'!D15 -> 0
A16: =SUM('Pfanne 1'!A16) -> 0 | B16: ='Pfanne 1'!B16 -> 0 | C16: ='Pfanne 1'!C16 -> 0 | D16: ='Pfanne 1'!D16 -> 0
A17: =SUM('Pfanne 1'!A17) -> 0 | B17: ='Pfanne 1'!B17 -> 0 | C17: ='Pfanne 1'!C17 -> 0 | D17: ='Pfanne 1'!D17 -> 0
... A20: =SUM('Pfanne 1'!A20) -> 0 | B20: ='Pfanne 1'!B20 -> 0 | C20: ='Pfanne 1'!C20 -> 0 | D20: ='Pfanne 1'!D20 -> 0
A21: ='Pfanne 2'!A2 -> Rindfleisch nach Szechuan Art | D21: Bemerkungen
A22: =SUM('Pfanne 2'!A4) -> 0.45 | B22: ='Pfanne 2'!B4 -> Kg | C22: ='Pfanne 2'!C4 -> Rindshuft | D22: ='Pfanne 2'!D4 -> 0
A23: =SUM('Pfanne 2'!A5) -> 5 | B23: ='Pfanne 2'!B5 -> EL | C23: ='Pfanne 2'!C5 -> Sojasauce | D23: ='Pfanne 2'!D5 -> 0
A24: =SUM('Pfanne 2'!A6) -> 2 | B24: ='Pfanne 2'!B6 -> St | C24: ='Pfanne 2'!C6 -> Chilischoten | D24: ='Pfanne 2'!D6 -> 0
A25: =SUM('Pfanne 2'!A7) -> 1 | B25: ='Pfanne 2'!B7 -> Bund | C25: ='Pfanne 2'!C7 -> Frühlingszwiebeln | D25: ='Pfanne 2'!D7 -> 0
A26: =SUM('Pfanne 2'!A8) -> 3 | B26: ='Pfanne 2'!B8 -> St | C26: ='Pfanne 2'!C8 -> Knoblauchzehen | D26: ='Pfanne 2'!D8 -> 0
A27: =SUM('Pfanne 2'!A9) -> 1 | B27: ='Pfanne 2'!B9 -> Dose | C27: ='Pfanne 2'!C9 -> Bambussprossen à 230 g | D27: ='Pfanne 2'!D9 -> 0
A28: =SUM('Pfanne 2'!A10) -> 1 | B28: ='Pfanne 2'!B10 -> EL | C28: ='Pfanne 2'!C10 -> Maisstärke | D28: ='Pfanne 2'!D10 -> 0
A29: =SUM('Pfanne 2'!A11) -> 2 | B29: ='Pfanne 2'!B11 -> EL | C29: ='Pfanne 2'!C11 -> Distelöl | D29: ='Pfanne 2'!D11 -> 0
A30: =SUM('Pfanne 2'!A12) -> 2 | B30: ='Pfanne 2'!B12 -> Dl | C30: ='Pfanne 2'!C12 -> starke Rindsbouillon | D30: ='Pfanne 2'!D12 -> 0
A31: =SUM('Pfanne 2'!A13) -> 1 | B31: ='Pfanne 2'!B13 -> EL | C31: ='Pfanne 2'!C13 -> Rohzucker | D31: ='Pfanne 2'!D13 -> 0
A32: =SUM('Pfanne 2'!A14) -> 0 | B32: ='Pfanne 2'!B14 -> 0 | C32: ='Pfanne 2'!C14 -> 0 | D32: ='Pfanne 2'!D14 -> 0
A33: =SUM('Pfanne 2'!A15) -> 0 | B33: ='Pfanne 2'!B15 -> 0 | C33: ='Pfanne 2'!C15 -> 0 | D33: ='Pfanne 2'!D15 -> 0
... A38: =SUM('Pfanne 2'!A20) -> 0 | B38: ='Pfanne 2'!B20 -> 0 | C38: ='Pfanne 2'!C20 -> 0 | D38: ='Pfanne 2'!D20 -> 0
A39: ='Pfanne 3'!A2 -> Gebratene Nudeln | D39: Bemerkungen
A40: =SUM('Pfanne 3'!A4) -> 0.4 | B40: ='Pfanne 3'!B4 -> Kg | C40: ='Pfanne 3'!C4 -> Geflügelfleisch | D40: ='Pfanne 3'!D4 -> 0
A41: =SUM('Pfanne 3'!A5) -> 0.5 | B41: ='Pfanne 3'!B5 -> Kg | C41: ='Pfanne 3'!C5 -> chinesische Eiernudeln, gekocht | D41: ='Pfanne 3'!D5 -> 0
A42: =SUM('Pfanne 3'!A6) -> 0.2 | B42: ='Pfanne 3'!B6 -> Kg | C42: ='Pfanne 3'!C6 -> Sojasprossen | D42: ='Pfanne 3'!D6 -> 0
A43: =SUM('Pfanne 3'!A7) -> 2 | B43: ='Pfanne 3'!B7 -> St | C43: ='Pfanne 3'!C7 -> Frühlingszwiebeln | D43: ='Pfanne 3'!D7 -> 0
A44: =SUM('Pfanne 3'!A8) -> 0 | B44: ='Pfanne 3'!B8 -> 0 | C44: ='Pfanne 3'!C8 -> Distelöl | D44: ='Pfanne 3'!D8 -> 0
A45: =SUM('Pfanne 3'!A9) -> 0 | B45: ='Pfanne 3'!B9 -> 0 | C45: ='Pfanne 3'!C9 -> Sojasauce | D45: ='Pfanne 3'!D9 -> 0
A46: =SUM('Pfanne 3'!A10) -> 0 | B46: ='Pfanne 3'!B10 -> 0 | C46: ='Pfanne 3'!C10 -> Sambal Oelek | D46: ='Pfanne 3'!D10 -> 0
A47: =SUM('Pfanne 3'!A11) -> 0 | B47: ='Pfanne 3'!B11 -> 0 | C47: ='Pfanne 3'!C11 -> Paprikapulver | D47: ='Pfanne 3'!D11 -> 0
A48: =SUM('Pfanne 3'!A12) -> 0 | B48: ='Pfanne 3'!B12 -> 0 | C48: ='Pfanne 3'!C12 -> Curry | D48: ='Pfanne 3'!D12 -> 0
A49: =SUM('Pfanne 3'!A13) -> 0 | B49: ='Pfanne 3'!B13 -> 0 | C49: ='Pfanne 3'!C13 -> 0 | D49: ='Pfanne 3'!D13 -> 0
A50: =SUM('Pfanne 3'!A14) -> 0 | B50: ='Pfanne 3'!B14 -> 0 | C50: ='Pfanne 3'!C14 -> 0 | D50: ='Pfanne 3'!D14 -> 0
A51: =SUM('Pfanne 3'!A15) -> 0 | B51: ='Pfanne 3'!B15 -> 0 | C51: ='Pfanne 3'!C15 -> 0 | D51: ='Pfanne 3'!D15 -> 0
... A56: =SUM('Pfanne 3'!A20) -> 0 | B56: ='Pfanne 3'!B20 -> 0 | C56: ='Pfanne 3'!C20 -> 0 | D56: ='Pfanne 3'!D20 -> 0
A57: ='Pfanne 4'!A2 -> Chinesisches Gemüse | D57: Bemerkungen
A58: ='Pfanne 4'!A4 -> 2 | B58: ='Pfanne 4'!B4 -> St | C58: ='Pfanne 4'!C4 -> Frühlingszwiebeln | D58: ='Pfanne 4'!D4 -> 0
A59: ='Pfanne 4'!A5 -> 0.15 | B59: ='Pfanne 4'!B5 -> Kg | C59: ='Pfanne 4'!C5 -> Stangensellerie | D59: ='Pfanne 4'!D5 -> 0
A60: ='Pfanne 4'!A6 -> 0.15 | B60: ='Pfanne 4'!B6 -> Kg | C60: ='Pfanne 4'!C6 -> rote Peperoni | D60: ='Pfanne 4'!D6 -> 0
A61: ='Pfanne 4'!A7 -> 0.15 | B61: ='Pfanne 4'!B7 -> Kg | C61: ='Pfanne 4'!C7 -> Rüebli | D61: ='Pfanne 4'!D7 -> 0
A62: ='Pfanne 4'!A8 -> 2 | B62: ='Pfanne 4'!B8 -> St | C62: ='Pfanne 4'!C8 -> Scheiben frischer Ingwer, gequetscht | D62: ='Pfanne 4'!D8 -> 0
A63: ='Pfanne 4'!A9 -> 1 | B63: ='Pfanne 4'!B9 -> St | C63: ='Pfanne 4'!C9 -> Knoblauchzehe, gequetscht | D63: ='Pfanne 4'!D9 -> 0
A64: ='Pfanne 4'!A10 -> 1 | B64: ='Pfanne 4'!B10 -> TL | C64: ='Pfanne 4'!C10 -> Pfeffer | D64: ='Pfanne 4'!D10 -> 0
A65: ='Pfanne 4'!A11 -> 2 | B65: ='Pfanne 4'!B11 -> EL | C65: ='Pfanne 4'!C11 -> Diestelöl | D65: ='Pfanne 4'!D11 -> 0
A66: ='Pfanne 4'!A12 -> 0.15 | B66: ='Pfanne 4'!B12 -> Kg | C66: ='Pfanne 4'!C12 -> tiefgekühlte Kefen | D66: ='Pfanne 4'!D12 -> 0
A67: ='Pfanne 4'!A13 -> 0.15 | B67: ='Pfanne 4'!B13 -> Kg | C67: ='Pfanne 4'!C13 -> Lauch, in feinen Streifen | D67: ='Pfanne 4'!D13 -> 0
A68: ='Pfanne 4'!A14 -> 1.5 | B68: ='Pfanne 4'!B14 -> DL | C68: ='Pfanne 4'!C14 -> Gemüsebouillon | D68: ='Pfanne 4'!D14 -> 0
A69: ='Pfanne 4'!A15 -> 2 | B69: ='Pfanne 4'!B15 -> EL | C69: ='Pfanne 4'!C15 -> Sojasauce | D69: ='Pfanne 4'!D15 -> 0
... A74: ='Pfanne 4'!A20 -> 0 | B74: ='Pfanne 4'!B20 -> 0 | C74: ='Pfanne 4'!C20 -> 0 | D74: ='Pfanne 4'!D20 -> 0
A75: ='Pfanne 5'!A2 -> Gebackene Banane mit Honig
A76: =SUM('Pfanne 5'!A4) -> 2 | B76: ='Pfanne 5'!B4 -> St | C76: ='Pfanne 5'!C4 -> Bananen | D76: ='Pfanne 5'!D4 -> 0
A77: =SUM('Pfanne 5'!A5) -> 0 | B77: ='Pfanne 5'!B5 -> 0 | C77: ='Pfanne 5'!C5 -> Für den Teig: | D77: ='Pfanne 5'!D5 -> 0
A78: =SUM('Pfanne 5'!A6) -> 0.08 | B78: ='Pfanne 5'!B6 -> Kg | C78: ='Pfanne 5'!C6 -> Mehl | D78: ='Pfanne 5'!D6 -> 0
A79: =SUM('Pfanne 5'!A7) -> 1 | B79: ='Pfanne 5'!B7 -> TL | C79: ='Pfanne 5'!C7 -> Backpulver | D79: ='Pfanne 5'!D7 -> 0
A80: =SUM('Pfanne 5'!A8) -> 1 | B80: ='Pfanne 5'!B8 -> Prise | C80: ='Pfanne 5'!C8 -> Salz | D80: ='Pfanne 5'!D8 -> 0
A81: =SUM('Pfanne 5'!A9) -> 1 | B81: ='Pfanne 5'!B9 -> EL | C81: ='Pfanne 5'!C9 -> Rohzucker | D81: ='Pfanne 5'!D9 -> 0
A82: =SUM('Pfanne 5'!A10) -> 8 | B82: ='Pfanne 5'!B10 -> EL | C82: ='Pfanne 5'!C10 -> Wasser | D82: ='Pfanne 5'!D10 -> 0
A83: =SUM('Pfanne 5'!A11) -> 0 | B83: ='Pfanne 5'!B11 -> 0 | C83: ='Pfanne 5'!C11 -> Öl, zum Ausbacken | D83: ='Pfanne 5'!D11 -> 0
A84: =SUM('Pfanne 5'!A12) -> 0 | B84: ='Pfanne 5'!B12 -> 0 | C84: ='Pfanne 5'!C12 -> Honig, nach Belieben | D84: ='Pfanne 5'!D12 -> 0
A85: =SUM('Pfanne 5'!A13) -> 0 | B85: ='Pfanne 5'!B13 -> 0 | C85: ='Pfanne 5'!C13 -> 0 | D85: ='Pfanne 5'!D13 -> 0
A86: =SUM('Pfanne 5'!A14) -> 0 | B86: ='Pfanne 5'!B14 -> 0 | C86: ='Pfanne 5'!C14 -> Vanille Glace | D86: ='Pfanne 5'!D14 -> 0
A87: =SUM('Pfanne 5'!A15) -> 0 | B87: ='Pfanne 5'!B15 -> 0 | C87: ='Pfanne 5'!C15 -> 0 | D87: ='Pfanne 5'!D15 -> 0
... A92: =SUM('Pfanne 5'!A20) -> 0 | B92: ='Pfanne 5'!B20 -> 0 | C92: ='Pfanne 5'!C20 -> 0 | D92: ='Pfanne 5'!D20 -> 0
A93: =Dessert!A2 -> 0 | D93: Bemerkungen
A94: =SUM(Dessert!A4) -> #DIV/0! | B94: =Dessert!B4 -> 0 | C94: =Dessert!C4 -> 0 | D94: =Dessert!D4 -> 0
A95: =SUM(Dessert!A5) -> #DIV/0! | B95: =Dessert!B5 -> 0 | C95: =Dessert!C5 -> 0 | D95: =Dessert!D5 -> 0
A96: =SUM(Dessert!A6) -> #DIV/0! | B96: =Dessert!B6 -> 0 | C96: =Dessert!C6 -> 0 | D96: =Dessert!D6 -> 0
A97: =SUM(Dessert!A7) -> #DIV/0! | B97: =Dessert!B7 -> 0 | C97: =Dessert!C7 -> 0 | D97: =Dessert!D7 -> 0
A98: =SUM(Dessert!A8) -> #DIV/0! | B98: =Dessert!B8 -> 0 | C98: =Dessert!C8 -> 0 | D98: =Dessert!D8 -> 0
A99: =SUM(Dessert!A9) -> #DIV/0! | B99: =Dessert!B9 -> 0 | C99: =Dessert!C9 -> 0 | D99: =Dessert!D9 -> 0
A100: =SUM(Dessert!A10) -> #DIV/0! | B100: =Dessert!B10 -> 0 | C100: =Dessert!C10 -> 0 | D100: =Dessert!D10 -> 0
A101: =SUM(Dessert!A11) -> #DIV/0! | B101: =Dessert!B11 -> 0 | C101: =Dessert!C11 -> 0 | D101: =Dessert!D11 -> 0
A102: =SUM(Dessert!A12) -> #DIV/0! | B102: =Dessert!B12 -> 0 | C102: =Dessert!C12 -> 0 | D102: =Dessert!D12 -> 0
A103: =SUM(Dessert!A13) -> #DIV/0! | B103: =Dessert!B13 -> 0 | C103: =Dessert!C13 -> 0 | D103: =Dessert!D13 -> 0
A104: =SUM(Dessert!A14) -> #DIV/0! | B104: =Dessert!B14 -> 0 | C104: =Dessert!C14 -> 0 | D104: =Dessert!D14 -> 0
A105: =SUM(Dessert!A15) -> #DIV/0! | B105: =Dessert!B15 -> 0 | C105: =Dessert!C15 -> 0 | D105: =Dessert!D15 -> 0
... A110: =SUM(Dessert!A20) -> #DIV/0! | B110: =Dessert!B20 -> 0 | C110: =Dessert!C20 -> 0 | D110: =Dessert!D20 -> 0
A112: =Diverses!A2 -> 0
A113: =SUM(Diverses!A4) -> 0 | B113: =Diverses!B4 -> 0 | C113: =Diverses!C4 -> 0 | D113: =Diverses!D4 -> 0
A114: =SUM(Diverses!A5) -> 0 | B114: =Diverses!B5 -> 0 | C114: =Diverses!C5 -> 0 | D114: =Diverses!D5 -> 0
A115: =SUM(Diverses!A6) -> 0 | B115: =Diverses!B6 -> 0 | C115: =Diverses!C6 -> 0 | D115: =Diverses!D6 -> 0
A116: =SUM(Diverses!A7) -> 0 | B116: =Diverses!B7 -> 0 | C116: =Diverses!C7 -> 0 | D116: =Diverses!D7 -> 0
A117: =SUM(Diverses!A8) -> 0 | B117: =Diverses!B8 -> 0 | C117: =Diverses!C8 -> 0 | D117: =Diverses!D8 -> 0
A118: =SUM(Diverses!A9) -> 0 | B118: =Diverses!B9 -> 0 | C118: =Diverses!C9 -> 0 | D118: =Diverses!D9 -> 0
A119: =SUM(Diverses!A10) -> 0 | B119: =Diverses!B10 -> 0 | C119: =Diverses!C10 -> 0 | D119: =Diverses!D10 -> 0
A120: =SUM(Diverses!A11) -> 0 | B120: =Diverses!B11 -> 0 | C120: =Diverses!C11 -> 0 | D120: =Diverses!D11 -> 0
A121: =SUM(Diverses!A12) -> 0 | B121: =Diverses!B12 -> 0 | C121: =Diverses!C12 -> 0 | D121: =Diverses!D12 -> 0
A122: =SUM(Diverses!A13) -> 0 | B122: =Diverses!B13 -> 0 | C122: =Diverses!C13 -> 0 | D122: =Diverses!D13 -> 0
A123: =SUM(Diverses!A14) -> 0 | B123: =Diverses!B14 -> 0 | C123: =Diverses!C14 -> 0 | D123: =Diverses!D14 -> 0
...
