Workbook
Name ingredients: Beilage!#REF!
Name textUl: Dessert2!#REF!

Sheet Menu
B1: Schlussbankett Samstag, 19. November 2016
C2: Verantwortlich
A3: Datum | B3: 42693
A5: Apéro | B5: Apéro Gebäck | C5: Sedi / Werner
A6: Apéro | B6: Chicorée Schiffchen mit Gorgonzola Mascarpone | C6: Sedi / Werner
A8: Amuse-Bouche | B8: Pumpernickel mit Bündnerfleischcrème | C8: JP / Ernesto
A10: Vorspeise | B10: Mercimek Köftesi auf Randencarpaccio | C10: Sedi / Werner
A12: Suppe | B12: Kartoffel-Wasabi-Suppe mit Lachsstreifen | C12: Christian
A14: Fisch | B14: Jakobsmuschel, Balsamico Jus und Safran-Risotto | C14: JP / Ernesto
A16: Sorbet | B16: Grappa-Glacé | C16: Christian / Sedi
A18: Hauptgang | B18: Kalbsnierstück massiert, aus dem Ofen | C18: Christian
A19: Beilage1 | B19: Couscous mit Gemüse | C19: Sedi
A21: Surprise Teller | B21: Schoko-Chilli-Mousse, Citronen-Limecrème, Zimt Parfait, Rüeblikuchen carré, Guezli | C21: JP / Ernesto / Werner
A23: Käse | B23: kleiner Käse-Teller | C23: JP / Ernesto / Wernier
A25: Menu von Tisch | B25: D
A27: Personenzahl | B27: 50

Sheet Apero 1
C1: Schlussbankett 2016
A2: =Menu!B5 -> Apéro Gebäck | D2: 4 | E2: 4 | F2: Personen
A3: Menge | B3: Einheit | C3: Artikel (Gewicht alles ca. Angaben) | D3: Bemerkungen | E3: Originalrezept | F3: pro Person
A4: =ROUND(SUM(F4*$D$2),2) -> 0 | C4: Knusper-Flûtes | F4: =E4/$E$2 -> 0
A5: =ROUND(SUM(F5*$D$2),2) -> 1 | B5: Stk | C5: Blätterteig ausgewallt 42x26 cm | E5: 1 | F5: =E5/$E$2 -> 0.25
A6: =ROUND(SUM(F6*$D$2),2) -> 1 | B6: Stk | C6: Ei verklopft | E6: 1 | F6: =E6/$E$2 -> 0.25
A7: =ROUND(SUM(F7*$D$2),2) -> 0.05 | B7: Kg | C7: Pistazien grob gehackt | E7: 0.05 | F7: =E7/$E$2 -> 0.0125
A8: =ROUND(SUM(F8*$D$2),2) -> 0.05 | B8: Kg | C8: Mandelstifte grob gehackt | E8: 0.05 | F8: =E8/$E$2 -> 0.0125
A9: =ROUND(SUM(F9*$D$2),2) -> 2 | B9: Prise | C9: Fleur de Sel | E9: 2 | F9: =E9/$E$2 -> 0.5
A10: =ROUND(SUM(F10*$D$2),2) -> 0 | C10: Rosmarin-Speck-Grissini | F10: =E10/$E$2 -> 0
A11: =ROUND(SUM(F11*$D$2),2) -> 1 | B11: Stk | C11: Blätterteig ausgewallt 42x26 cm | E11: 1 | F11: =E11/$E$2 -> 0.25
A12: =ROUND(SUM(F12*$D$2),2) -> 0.1 | B12: Kg | C12: Sesam | E12: 0.1 | F12: =E12/$E$2 -> 0.025
A13: =ROUND(SUM(F13*$D$2),2) -> 2 | B13: EL | C13: Rosmarin, fein gehackt | E13: 2 | F13: =E13/$E$2 -> 0.5
A14: =ROUND(SUM(F14*$D$2),2) -> 0 | C14: wenig Kräutersalz & Pfeffer | F14: =E14/$E$2 -> 0
A15: =ROUND(SUM(F15*$D$2),2) -> 0 | C15: Apérogebäck | F15: =E15/$E$2 -> 0
A16: =ROUND(SUM(F16*$D$2),2) -> 2 | B16: Stk | C16: Blätterteig ausgewallt 42x26 cm | E16: 2 | F16: =E16/$E$2 -> 0.5
A17: =ROUND(SUM(F17*$D$2),2) -> 1 | B17: Stk | C17: Eigelb | E17: 1 | F17: =E17/$E$2 -> 0.25
A18: =ROUND(SUM(F18*$D$2),2) -> 1 | B18: EL | C18: Yoghurt nature | E18: 1 | F18: =E18/$E$2 -> 0.25
A19: =ROUND(SUM(F19*$D$2),2) -> 1 | B19: EL | C19: Gewürz nach Belieben | E19: 1 | F19: =E19/$E$2 -> 0.25
A20: =ROUND(SUM(F20*$D$2),2) -> 0 | F20: =E20/$E$2 -> 0
A21: Knusper-Flûtes | C21: pro Blätterteigrechteck ca. 42 Stk
A22: 1 Teig auf wenig Mehl ca. 2mm dick auswallen, auf ein mit Backpapier belegtes Blech ziehen und mit Ei bestreichen.
A23: 2 Teig mit einer Gabel dicht einstechen, mit Pistazien, Mandeln und Fleur de Sel bestreuen. Ca. 15 Min kühl stellen.
A24: 3 Mit einem spitzen Messer längs in ca. 1.5cm breite Streifen schneiden.
A25: 4 Ca. 10 Min in der Mitte des auf 220 Grad vorgeheitzten Ofens backen.
A26: 5 Flûtes herausnehmen, etwas abkühlen lassen und auf einem Gitter auskühlen.
A27: Rosmarin-Speck-Grissini
A28: 1. Teig auf wenig Mehl ca. 2mm dick auswallen. Mit Speck, Rosmarin, Salz und Pfeffer bestreuen. Von Hand in den Teig drücken.
A29: 2. Teig in 1-1,5 cm breite Streifen schneiden. Streifen einzeln zu Grissini rollen. Auf das mit Backpapier belegte Blech legen.
A30: 3. In der Mitte des auf 220 °C vorgeheizten Ofens 8-12 Minuten goldbraun und knusprig backen.
A31: Apérogebäck
A32: 1.Für den Belag das Eigelb mit Joghurt mischen und damit den Teig bestreichen. Rustica gleichmässig darüber streuen.
A33: 2. Den Teig in schmale lange Streifen schneiden und etwas verdreht auf ein mit Backpapier belegtes Backblech legen.
A34: 3. Im auf 200°C 8 Minuten goldgelb backen, danach aus dem Ofen nehmen und auf einem Gitter abkühlen lassen.

Sheet Apero 2
C1: Schlussbankett 2016
A2: =Menu!B6 -> Chicorée Schiffchen mit Gorgonzola Mascarpone | D2: 20 | E2: 4 | F2: Personen
A3: Menge | B3: Einheit | C3: Artikel (Gewicht alles ca. Angaben) | D3: Bemerkungen | E3: Originalrezept | F3: pro Person
A4: 50 | B4: Stk | C4: Chicoréeblätter
A5: =ROUND(SUM(F5*$D$2),2) -> 1 | B5: Kg | C5: Gorgonzola-Mascarpone | E5: 0.2 | F5: =E5/$E$2 -> 0.05
A6: =ROUND(SUM(F6*$D$2),2) -> 0.13 | B6: LT | C6: Rahm oder Halbrahm | E6: 0.025 | F6: =E6/$E$2 -> 0.00625
A7: =ROUND(SUM(F7*$D$2),2) -> 0 | C7: Schnittlauch gemischt als Garniture | F7: =E7/$E$2 -> 0
A8: =ROUND(SUM(F8*$D$2),2) -> 0 | C8: Pfeffer | F8: =E8/$E$2 -> 0
A9: =ROUND(SUM(F9*$D$2),2) -> 0 | C9: Masse nicht zu dünnflüssig machen | F9: =E9/$E$2 -> 0
A10: =ROUND(SUM(F10*$D$2),2) -> 0 | F10: =E10/$E$2 -> 0
A11: =ROUND(SUM(F11*$D$2),2) -> 0 | F11: =E11/$E$2 -> 0
A12: =ROUND(SUM(F12*$D$2),2) -> 0 | F12: =E12/$E$2 -> 0
A13: =ROUND(SUM(F13*$D$2),2) -> 0 | F13: =E13/$E$2 -> 0
A14: =ROUND(SUM(F14*$D$2),2) -> 0 | F14: =E14/$E$2 -> 0
A15: =ROUND(SUM(F15*$D$2),2) -> 0 | F15: =E15/$E$2 -> 0
A16: =ROUND(SUM(F16*$D$2),2) -> 0 | F16: =E16/$E$2 -> 0
A17: =ROUND(SUM(F17*$D$2),2) -> 0 | F17: =E17/$E$2 -> 0
A18: =ROUND(SUM(F18*$D$2),2) -> 0 | F18: =E18/$E$2 -> 0
A19: =ROUND(SUM(F19*$D$2),2) -> 0 | F19: =E19/$E$2 -> 0
A20: =ROUND(SUM(F20*$D$2),2) -> 0 | F20: =E20/$E$2 -> 0
A21: Zubereitung | C21: reicht für ca. 60-70 Stück Chicoréeblätter
A22: Gorgonzola-Mascarpone mit dem Rahm wärmen und mit Pfeffer würzen

Sheet Amuse-Bouche
C1: Schlussbankett 2016
A2: =Menu!B8 -> Pumpernickel mit Bündnerfleischcrème | D2: 8 | E2: 8 | F2: Personen
A3: Menge | B3: Einheit | C3: Artikel (Gewicht alles ca. Angaben) | D3: Bemerkungen | E3: Originalrezept | F3: pro Person
A4: =ROUND(SUM(F4*$D$2),2) -> 1 | B4: Stk | C4: Zwiebel mittelgross | E4: 1 | F4: =E4/$E$2 -> 0.125
A5: =ROUND(SUM(F5*$D$2),2) -> 0.1 | B5: Kg | C5: Bündnerfleisch | E5: 0.1 | F5: =E5/$E$2 -> 0.0125
A6: =ROUND(SUM(F6*$D$2),2) -> 0.03 | B6: Kg | C6: Butter | E6: 0.025 | F6: =E6/$E$2 -> 0.003125
A7: =ROUND(SUM(F7*$D$2),2) -> 0.15 | B7: LT | C7: Gemüsebouillon | E7: 0.15 | F7: =E7/$E$2 -> 0.01875
A8: =ROUND(SUM(F8*$D$2),2) -> 1 | B8: Bund | C8: Schnittlauch geschnitten | E8: 1 | F8: =E8/$E$2 -> 0.125
A9: =ROUND(SUM(F9*$D$2),2) -> 0.1 | B9: Kg | C9: Quark | E9: 0.1 | F9: =E9/$E$2 -> 0.0125
A10: =ROUND(SUM(F10*$D$2),2) -> 0.3 | B10: Kg | C10: Doppelrahmfrischkäse mit Pfeffer | E10: 0.3 | F10: =E10/$E$2 -> 0.0375
A11: =ROUND(SUM(F11*$D$2),2) -> 0.1 | B11: Kg | C11: Sprinz gerieben | E11: 0.1 | F11: =E11/$E$2 -> 0.0125
A12: =ROUND(SUM(F12*$D$2),2) -> 4 | B12: Stk | C12: Pumpernickel Rolle | D12: bei REWE JP | E12: 4 | F12: =E12/$E$2 -> 0.5
A13: =ROUND(SUM(F13*$D$2),2) -> 3 | B13: Stk | C13: Sprinzrollen halbiert | E13: 3 | F13: =E13/$E$2 -> 0.375
A14: =ROUND(SUM(F14*$D$2),2) -> 0 | F14: =E14/$E$2 -> 0
A15: =ROUND(SUM(F15*$D$2),2) -> 0 | F15: =E15/$E$2 -> 0
A16: =ROUND(SUM(F16*$D$2),2) -> 0 | F16: =E16/$E$2 -> 0
A17: =ROUND(SUM(F17*$D$2),2) -> 0 | F17: =E17/$E$2 -> 0
A18: =ROUND(SUM(F18*$D$2),2) -> 0 | F18: =E18/$E$2 -> 0
A19: =ROUND(SUM(F19*$D$2),2) -> 0 | F19: =E19/$E$2 -> 0
A20: =ROUND(SUM(F20*$D$2),2) -> 0 | F20: =E20/$E$2 -> 0
A21: Zubereitung | C21: reicht für ca. 80 Stück
A22: Die Zwiebel schälen und fein hacken. Das Bündnerfleisch in feine Würfelchen schneiden.
A23: ln einer kleinen Pfanne die Butter erhitzen, die Zwiebel darin andünsten, dann das Bündnerfleisch mit der Bouillon beifügen. Alles 10 Minuten ungedeckt kochen lassen.
A25: Das Bündnerfleisch mitsamt Flüssigkeit in einen hohen Becher geben und mit dem Stabmixer pürieren. Auskühlen lassen.
A27: Das Fleischpüree mit dem Quark, dem Frischkäse, dem Sbrinz und dem restlichen Schnittlauch mischen und wenn nötig mit Salz abschmecken. Die Masse in einen Spritzbeutel mit gezackter Tülle füllen und nochmals kalt stellen.
A29: Die Bündnerfleischcrème auf die Pumpernickel-Rondellen spritzen. Mit jeweils 1/2 Stück Sbrinzröllchen garnieren.

Sheet Vorspeise
C1: Schlussbankett 2016
A2: =Menu!B10 -> Mercimek Köftesi auf Randencarpaccio | D2: 45 | E2: 15 | F2: Personen
A3: Menge | B3: Einheit | C3: Artikel (Gewicht alles ca. Angaben) | D3: Bemerkungen | E3: Originalrezept | F3: pro Person
A4: =ROUND(SUM(F4*$D$2),2) -> 3 | B4: Stk | C4: Zwiebel, gehackt | E4: 1 | F4: =E4/$E$2 -> 0.066666667
A5: =ROUND(SUM(F5*$D$2),2) -> 3 | B5: Stk | C5: Knoblauchzehe, gehackt | E5: 1 | F5: =E5/$E$2 -> 0.066666667
A6: =ROUND(SUM(F6*$D$2),2) -> 3 | B6: EL | C6: Butter zum Dämpfen | E6: 1 | F6: =E6/$E$2 -> 0.066666667
A7: =ROUND(SUM(F7*$D$2),2) -> 0.45 | B7: Kg | C7: rote Linsen | E7: 0.15 | F7: =E7/$E$2 -> 0.01
A8: =ROUND(SUM(F8*$D$2),2) -> 1.65 | B8: Lt | C8: Wasser | E8: 0.55 | F8: =E8/$E$2 -> 0.036666667
A9: =ROUND(SUM(F9*$D$2),2) -> 0.45 | B9: Kg | C9: Bulgur fein (ince Bulgur für Köfte) | E9: 0.15 | F9: =E9/$E$2 -> 0.01
A10: =ROUND(SUM(F10*$D$2),2) -> 1.5 | B10: TL | C10: Salz | E10: 0.5 | F10: =E10/$E$2 -> 0.033333333
A11: =ROUND(SUM(F11*$D$2),2) -> 3 | B11: Prise | C11: Pfeffer | E11: 1 | F11: =E11/$E$2 -> 0.066666667
A12: =ROUND(SUM(F12*$D$2),2) -> 3 | B12: Prise | C12: Paprika | E12: 1 | F12: =E12/$E$2 -> 0.066666667
A13: =ROUND(SUM(F13*$D$2),2) -> 3 | B13: TL | C13: 1 TL Kreuzkümmel, gemahlen | E13: 1 | F13: =E13/$E$2 -> 0.066666667
A14: =ROUND(SUM(F14*$D$2),2) -> 1.5 | B14: Bund | C14: Petersilie glatt gehackt | E14: 0.5 | F14: =E14/$E$2 -> 0.033333333
A15: =ROUND(SUM(F15*$D$2),2) -> 0.75 | B15: Bund | C15: Frühlingszwiebel | E15: 0.25 | F15: =E15/$E$2 -> 0.016666667
... A24: =ROUND(SUM(F24*$D$2),2) -> 18 | B24: EL | C24: 2-3 EL Gemüsebouillon | E24: 6 | F24: =E24/$E$2 -> 0.4
A25: =ROUND(SUM(F25*$D$2),2) -> 0.15 | C25: wenig Salz / Pfeffer aus der Mühle | E25: 0.05 | F25: =E25/$E$2 -> 0.0033333333
A26: =ROUND(SUM(F26*$D$2),2) -> 0.6 | B26: KG | C26: Gemüsebrunoise | E26: 0.2 | F26: =E26/$E$2 -> 0.013333333
A27: =ROUND(SUM(F27*$D$2),2) -> 6 | B27: EL | C27: Raps- oder Nussöl | E27: 2 | F27: =E27/$E$2 -> 0.13333333
A28: 5 | B28: Glas | C28: Balsamico Perlen Selection | D28: Garniture | F28: =E28/$E$2 -> 0
A29: =ROUND(SUM(F29*$D$2),2) -> 1.5 | B29: Stk | C29: Zitronen Abrieb | D29: Garniture | E29: 0.5 | F29: =E29/$E$2 -> 0.033333333
A30: =ROUND(SUM(F30*$D$2),2) -> 0.75 | B30: Bund | C30: Peterli Glatt gehakt | D30: Garniture | E30: 0.25 | F30: =E30/$E$2 -> 0.016666667
A31: =ROUND(SUM(F31*$D$2),2) -> 0.3 | B31: KG | C31: Feta | D31: Garniture | E31: 0.1 | F31: =E31/$E$2 -> 0.0066666667
A32: Zwiebel und Knoblauch in der Butter andämpfen. Beiseitestellen.
A33: Linsen ins kochende Wasser einrieseln lassen. Bei kleiner Hitze 5 Minuten köcheln lassen.
A34: Bulgur beifügen. Zugedeckt 10-15 Minuten quellen lassen.
A35: Gedämpfte Zwiebel und Knoblauch daruntermischen. Mit Salz, Pfeffer, Paprika, Kreuzkümmel und Petersilie würzen. Zubereitung: ca. 30 Minuten, mit dem Glacelöffel kleine Kugeln machen.
A36: Randen Rüseten und in 1.5 mm Scheiben hobeln. 3 Rot & 3 Gelbe Randen Scheiben pro Teller!
A37: Randenscheiben mit Rohzucker bestreuen, Gemüsebrunoise etc ?????eine warme Marinade mit Essig und Bouillon zugedeckt 5-10 Minuten knackig garen, würzen.
A38: Randenscheiben auf vorgewärmte Teller verteilen, mit Öl beträufeln, garnieren und sofort lauwarm servieren. ????
A39: Mit Feta, Zitronenabrieb und Peterli ein Gekrümel herstellen und bestreuen.
A40: Die Randen lassen sich ½ Tag im Voraus zubereiten. Kurz vor dem Servieren mit der Sauce betreufeln
A44: Ergänzende Instruktionen
A45: Linsen in einem sehr großen Topf kochen. Wassermenge muss immer 2 Finger höher als die Linsen sein. Genaue Angaben kann ich nicht machen, da man während des Kochens immer wieder Wasser nachgießen muss. Die Linsen nehmen sehr viel Wasser auf. Immer wieder gut umrühren. Das Ganze dauert ungefähr eine halbe Stunde. Die Linsen sind fertig, wenn sie eine gelbliche Farbe angenommen haben und sehr püreeartig geworden sind, nur etwas dünnflüssiger. Nun gibt man den Bulgur dazu und vermischt beides sehr gut. Deckel drauf und min. 15 Minuten ruhen lassen. In der Zwischenzeit die Zwiebeln fein schneiden und in einer Pfanne etwas karamellisieren lassen. Lauchzwiebeln und Petersilie auch fein hacken oder schneiden und erst mal beiseitestellen. In einer kleinen Schüssel das Öl mit dem Tomatenmark und den Gewürzen gut verrühren. Diese Mischung in die Linsen-Bulgur Masse gut einkneten. Am besten Einmalhandschuhe anziehen, da man sonst von dem Tomatenmark rote Hände bekommt. Solange kneten, bis eine gleichmäßige Masse entsteht. Zuletzt die Zwiebeln, Lauchzwiebeln und Petersilie unterarbeiten. Kleine Laibchen formen und am besten auf Salatblätter dekorieren.

Sheet Suppe
C1: Schlussbankett 2016
A2: =Menu!B12 -> Kartoffel-Wasabi-Suppe mit Lachsstreifen | D2: 20 | E2: 10 | F2: Personen
A3: Menge | B3: Einheit | C3: Artikel (Gewicht alles ca. Angaben) | D3: Bemerkungen | E3: Originalrezept | F3: pro Person
A4: =ROUND(SUM(F4*$D$2),2) -> 2 | B4: EL | C4: Oel | E4: 1 | F4: =E4/$E$2 -> 0.1
A5: =ROUND(SUM(F5*$D$2),2) -> 2 | B5: Stk | C5: Zwiebel | E5: 1 | F5: =E5/$E$2 -> 0.1
A6: =ROUND(SUM(F6*$D$2),2) -> 2 | B6: Stk | C6: Knoblauchzehe | E6: 1 | F6: =E6/$E$2 -> 0.1
A7: =ROUND(SUM(F7*$D$2),2) -> 0.4 | B7: Kg | C7: Kartoffeln (mehlige) | E7: 0.2 | F7: =E7/$E$2 -> 0.02
A8: =ROUND(SUM(F8*$D$2),2) -> 1.6 | B8: Lt | C8: Bouillon | E8: 0.8 | F8: =E8/$E$2 -> 0.08
A9: =ROUND(SUM(F9*$D$2),2) -> 0.5 | B9: Lt | C9: Rahm flüssig | E9: 0.25 | F9: =E9/$E$2 -> 0.025
A10: =ROUND(SUM(F10*$D$2),2) -> 0.2 | B10: Kg | C10: Crème fraîche | E10: 0.1 | F10: =E10/$E$2 -> 0.01
A11: =ROUND(SUM(F11*$D$2),2) -> 0 | C11: Salz und Pfeffer | F11: =E11/$E$2 -> 0
A12: =ROUND(SUM(F12*$D$2),2) -> 2 | B12: TL | C12: Wasabi Paste | E12: 1 | F12: =E12/$E$2 -> 0.1
A13: =ROUND(SUM(F13*$D$2),2) -> 0 | C13: einige Spritzer Zitronensaft | F13: =E13/$E$2 -> 0
A14: =ROUND(SUM(F14*$D$2),2) -> 0 | F14: =E14/$E$2 -> 0
A15: =ROUND(SUM(F15*$D$2),2) -> 0.4 | B15: Kg | C15: Räucherlachs in Streifen | E15: 0.2 | F15: =E15/$E$2 -> 0.02
A16: =ROUND(SUM(F16*$D$2),2) -> 0.2 | B16: Kg | C16: getrocknete Cranberries | E16: 0.1 | F16: =E16/$E$2 -> 0.01
A17: =ROUND(SUM(F17*$D$2),2) -> 0 | C17: Schnittlauch für die Garniture | F17: =E17/$E$2 -> 0
A18: =ROUND(SUM(F18*$D$2),2) -> 0 | C18: ein paar Tropfen Wasibi flüssig | F18: =E18/$E$2 -> 0
A19: =ROUND(SUM(F19*$D$2),2) -> 0 | F19: =E19/$E$2 -> 0
A20: =ROUND(SUM(F20*$D$2),2) -> 0 | F20: =E20/$E$2 -> 0
A21: Zubereitung | C21: reicht für ca. 20-25 Portionen
A22: 1. Kartoffeln schälen, waschen und halbieren. Zwiebel und Knoblauch schälen. Zwiebel klein würfeln. Knoblauch halbieren und einen Topf damit einreiben, Öl in dem Topf erhitzen. Zwiebel darin glasig dünsten. Kartoffeln zugeben und den Gemüsefond angießen. Die Kartoffeln ca. 25-30 Minuten zugedeckt weich kochen.
A23: 2. Kartoffeln in der Brühe mit dem Stabmixer pürieren. Nach und nach den Rahm zufügen und aufkochen. Crème fraîche zugeben und erhitzen. Mit Salz, Pfeffer, Wasabipaste und Zitronensaft abschmecken.
A24: 3. Räucherlachs in Streifen schneiden. Die Suppe nochmals kurz aufmixen. Cranberries und Lachs hineingeben. Die Suppe mit Schnittlauch garniert servieren.
A25: 1 Scheibe Parisette auf Teller beilegen

Sheet Fisch
C1: Schlussbankett 2016
A2: =Menu!B14 -> Jakobsmuschel, Balsamico Jus und Safran-Risotto | D2: =SUM(Menu!B27) -> 50 | E2: 2 | F2: Personen
A3: Menge | B3: Einheit | C3: Artikel (Gewicht alles ca. Angaben) | D3: Bemerkungen | E3: Originalrezept | F3: pro Person
A4: =ROUND(SUM(F4*$D$2),2) -> 1 | B4: Kg | C4: Risottoreis Acqerello (Carnaroli) | D4: Globus | E4: 0.04 | F4: =E4/$E$2 -> 0.02
A5: =ROUND(SUM(F5*$D$2),2) -> 0.75 | B5: LT | C5: Weisswein | E5: 0.03 | F5: =E5/$E$2 -> 0.015
A6: =ROUND(SUM(F6*$D$2),2) -> 5 | B6: Lt | C6: schwache Bouillon | E6: 0.2 | F6: =E6/$E$2 -> 0.1
A7: =ROUND(SUM(F7*$D$2),2) -> 0.2 | B7: Kg | C7: Schalotte, fein geschnitten | E7: 0.008 | F7: =E7/$E$2 -> 0.004
A8: =ROUND(SUM(F8*$D$2),2) -> 0.13 | B8: LT | C8: Butter + Olivenöl zum dünsten | E8: 0.005 | F8: =E8/$E$2 -> 0.0025
A9: =ROUND(SUM(F9*$D$2),2) -> 0.2 | B9: Kg | C9: Parmigiano | E9: 0.008 | F9: =E9/$E$2 -> 0.004
A10: =ROUND(SUM(F10*$D$2),2) -> 0.25 | B10: ca. Kg | C10: Butter, Salz + Pfeffer | E10: 0.01 | F10: =E10/$E$2 -> 0.005
A11: =ROUND(SUM(F11*$D$2),2) -> 5 | B11: Brieflein | C11: Safran | D11: Schnittlauch ganz | E11: 0.2 | F11: =E11/$E$2 -> 0.1
A12: =ROUND(SUM(F12*$D$2),2) -> 100 | B12: Stk | C12: Jakobsmuscheln | E12: 4 | F12: =E12/$E$2 -> 2
A13: =ROUND(SUM(F13*$D$2),2) -> 0.5 | B13: Kg | C13: Butter | D13: Lavendelsalz | E13: 0.02 | F13: =E13/$E$2 -> 0.01
A14: =ROUND(SUM(F14*$D$2),2) -> 6.25 | B14: Stk | C14: Krone in Zucchetti schneiden. | E14: 0.25 | F14: =E14/$E$2 -> 0.125
A15: =ROUND(SUM(F15*$D$2),2) -> 1.25 | B15: Kg | C15: Peperoni rot und gelbe in kleine Würfel schneiden | D15: Zwiebeln gehackt | E15: 0.05 | F15: =E15/$E$2 -> 0.025
B16: EL | C16: Olivenöl | I16: 13.9 | J16: bei Globus
B17: Stk | C17: Zwiebel, gehackt
B18: Stk | C18: Zweiglein Rosmarin
B19: LT | C19: Aceto balsamico
B20: EL | C20: Johannisbeergelee
A21: Zubereitung
A22: Schritt 1 | B22: Die Bouillon erhitzen und warmhalten.
A23: Schritt 2 | B23: In einem Topf die Butter zerlassen, die feingeschnittene Schalotte darin andünsten, dann den Reis zufügen und unter Rühren anschwitzen, bis jedes Reiskorn von einem Fettfilm überzogen ist. Mit dem Wein ablöschen, auf kleiner Flamme einkochen lassen. Wenn die Flüssigkeit fast aufgesogen ist, einen Schöpflöffel Bouillon zugeben, immer wieder umrühren, weiter einkochen. Wiederholen, bis die Bouillon aufgebraucht ist und die Reiskörner al dente sind.
A24: Schritt 3 | B24: Topf von der Herdplatte nehmen, 2 El Butter und den Parmigiano und Safran einrühren, mit Pfeffer und Salz abschmecken. Zugedeckt 5 min ruhen lassen.
A25: Schritt 4 | B25: Zucchetti waschen und vorbereiten. Peperoni in kleiner Würfel schneiden und mit den Zwiebel im Butter andünsten. Die Zucchetti Töpli füllen und im Steamer garen.
A26: Schritt 5 | B26: Die Jakobsmuscheln leicht pfeffern und in der heissen Butter braten (2-3 min), wenden, noch einmal kurz braten und beiseite stellen.
A27: Schritt 6 | B27: Zum Anrichten den Safranrisotto in die Mitte des Tellers geben, die Jakobsmuscheln daneben anrichten und mit Lavendelsalz bestreuen. Zucchetti Krone danaben anrichten. Schnittlauch über Risotto

Sheet Glace
C1: Schlussbankett 2016
A2: =Menu!B16 -> Grappa-Glacé | D2: =SUM(Menu!B27) -> 50 | E2: 1 | F2: Personen
A3: Menge | B3: Einheit | C3: Artikel (Gewicht alles ca. Angaben) | D3: Bemerkungen | E3: Originalrezept | F3: pro Person
A4: =ROUND(SUM(F4*$D$2),2) -> 0 | C4: Grappa Glace | F4: =E4/$E$2 -> 0
A5: =ROUND(SUM(F5*$D$2),2) -> 50 | B5: Stk | C5: Trauben rot als Garnitur | E5: 1 | F5: =E5/$E$2 -> 1
A6: =ROUND(SUM(F6*$D$2),2) -> 0 | F6: =E6/$E$2 -> 0
A7: =ROUND(SUM(F7*$D$2),2) -> 0 | F7: =E7/$E$2 -> 0
A8: =ROUND(SUM(F8*$D$2),2) -> 0 | F8: =E8/$E$2 -> 0
A9: =ROUND(SUM(F9*$D$2),2) -> 0 | F9: =E9/$E$2 -> 0
A10: =ROUND(SUM(F10*$D$2),2) -> 0 | F10: =E10/$E$2 -> 0
A11: =ROUND(SUM(F11*$D$2),2) -> 0 | F11: =E11/$E$2 -> 0
A12: =ROUND(SUM(F12*$D$2),2) -> 0 | F12: =E12/$E$2 -> 0
A13: =ROUND(SUM(F13*$D$2),2) -> 0 | F13: =E13/$E$2 -> 0
A14: =ROUND(SUM(F14*$D$2),2) -> 0 | F14: =E14/$E$2 -> 0
A15: =ROUND(SUM(F15*$D$2),2) -> 0 | F15: =E15/$E$2 -> 0
A16: =ROUND(SUM(F16*$D$2),2) -> 0 | F16: =E16/$E$2 -> 0
A17: =ROUND(SUM(F17*$D$2),2) -> 0 | F17: =E17/$E$2 -> 0
... A20: =ROUND(SUM(F20*$D$2),2) -> 0 | F20: =E20/$E$2 -> 0
A21: Zubereitung
A22: Glace Löffel

Sheet Fleisch
C1: Schlussbankett 2016
A2: =Menu!B18 -> Kalbsnierstück massiert, aus dem Ofen | D2: =SUM(Menu!B27) -> 50 | E2: 8 | F2: Personen
A3: Menge | B3: Einheit | C3: Artikel (Gewicht alles ca. Angaben) | D3: Bemerkungen | E3: Originalrezept | F3: pro Person
A4: =ROUND(SUM(F4*$D$2),2) -> 8.13 | B4: Kg | C4: Kalbscarré massiert | D4: roh | E4: 1.3 | F4: =E4/$E$2 -> 0.1625
A5: =ROUND(SUM(F5*$D$2),2) -> 0 | C5: Salz, schwarzer Pfeffer aus der Mühle | F5: =E5/$E$2 -> 0
A6: =ROUND(SUM(F6*$D$2),2) -> 6.25 | B6: EL | C6: Bratbutter oder Öl | E6: 1 | F6: =E6/$E$2 -> 0.125
A7: =ROUND(SUM(F7*$D$2),2) -> 0 | F7: =E7/$E$2 -> 0
A8: =ROUND(SUM(F8*$D$2),2) -> 0 | C8: Morchelsauce wird von Christian im Geschäft vorbereitet | F8: =E8/$E$2 -> 0
A9: =ROUND(SUM(F9*$D$2),2) -> 50 | B9: Stk | C9: Cherri Tomaten glaciert als Garnitur | E9: 8 | F9: =E9/$E$2 -> 1
A10: =ROUND(SUM(F10*$D$2),2) -> 0 | F10: =E10/$E$2 -> 0
A11: =ROUND(SUM(F11*$D$2),2) -> 0 | F11: =E11/$E$2 -> 0
A12: =ROUND(SUM(F12*$D$2),2) -> 0 | F12: =E12/$E$2 -> 0
A13: =ROUND(SUM(F13*$D$2),2) -> 0 | F13: =E13/$E$2 -> 0
A14: =ROUND(SUM(F14*$D$2),2) -> 0 | F14: =E14/$E$2 -> 0
A15: =ROUND(SUM(F15*$D$2),2) -> 0 | F15: =E15/$E$2 -> 0
A16: =ROUND(SUM(F16*$D$2),2) -> 0 | F16: =E16/$E$2 -> 0
A17: =ROUND(SUM(F17*$D$2),2) -> 0 | F17: =E17/$E$2 -> 0
A18: =ROUND(SUM(F18*$D$2),2) -> 0 | F18: =E18/$E$2 -> 0
A19: =ROUND(SUM(F19*$D$2),2) -> 0 | F19: =E19/$E$2 -> 0
A20: =ROUND(SUM(F20*$D$2),2) -> 0 | F20: =E20/$E$2 -> 0
A21: Zubereitung
A22: 1 Den Backofen auf 80 Grad vorheizen und eine Platte mitwärmen.
A23: 2 Die Thymianblättchen von den Zweigen zupfen. Die Zitronenschale zum Thymian geben und alles sehr fein hacken. Mit dem Senf mischen
A24: 3 Das Kalbscarrée gut dressieren, das heisst von Fett und Sehnen befreien. Salzen und pfeffern. In der heissen Bratbutter rundum während 10 Minuten anbraten. Auf die vorgewärmte Platte geben und grosszügig mit Senfmarinade bestreichen. Das Kalbscarré im 80 Grad heissen Ofen während 1 1/2-1 3/4 Stunden nachgaren lassen.

Sheet Beilage
C1: Schlussbankett 2016
A2: =Menu!B19 -> Couscous mit Gemüse | D2: =SUM(Menu!B27) -> 50 | E2: 5 | F2: Personen
A3: Menge | B3: Einheit | C3: Artikel (Gewicht alles ca. Angaben) | D3: Bemerkungen | E3: Originalrezept | F3: pro Person
A4: =ROUND(SUM(F4*$D$2),2) -> 2.5 | B4: Kg | C4: Broccoli | D4: kleine Röschen | E4: 0.25 | F4: =E4/$E$2 -> 0.05
A5: =ROUND(SUM(F5*$D$2),2) -> 2 | B5: Kg | C5: Peperoni rot | D5: kleine Würfel | E5: 0.2 | F5: =E5/$E$2 -> 0.04
A6: =ROUND(SUM(F6*$D$2),2) -> 1 | B6: Kg | C6: Rüebli | E6: 0.1 | F6: =E6/$E$2 -> 0.02
A7: =ROUND(SUM(F7*$D$2),2) -> 5 | B7: Stk | C7: Knoblauchzehe | E7: 0.5 | F7: =E7/$E$2 -> 0.1
A8: =ROUND(SUM(F8*$D$2),2) -> 20 | B8: EL | C8: Olivenöl | E8: 2 | F8: =E8/$E$2 -> 0.4
A9: =ROUND(SUM(F9*$D$2),2) -> 0.75 | B9: Kg | C9: Erbsen TK | E9: 0.075 | F9: =E9/$E$2 -> 0.015
A10: =ROUND(SUM(F10*$D$2),2) -> 0 | F10: =E10/$E$2 -> 0
A11: =ROUND(SUM(F11*$D$2),2) -> 5 | B11: El | C11: Curry Pulver | E11: 0.5 | F11: =E11/$E$2 -> 0.1
A12: =ROUND(SUM(F12*$D$2),2) -> 5 | B12: EL | C12: Harissa | E12: 0.5 | F12: =E12/$E$2 -> 0.1
A13: =ROUND(SUM(F13*$D$2),2) -> 0 | B13: Prise | C13: Salz | F13: =E13/$E$2 -> 0
A14: =ROUND(SUM(F14*$D$2),2) -> 0 | B14: Prise | C14: Pfeffer | F14: =E14/$E$2 -> 0
A15: =ROUND(SUM(F15*$D$2),2) -> 1 | B15: Lt | C15: Bouillon Gemüse | E15: 0.1 | F15: =E15/$E$2 -> 0.02
A16: =ROUND(SUM(F16*$D$2),2) -> 0.8 | B16: Kg | C16: Couscous | E16: 0.08 | F16: =E16/$E$2 -> 0.016
A17: =ROUND(SUM(F17*$D$2),2) -> 10 | B17: Stk | C17: Frühlingszwiebel | E17: 1 | F17: =E17/$E$2 -> 0.2
A18: =ROUND(SUM(F18*$D$2),2) -> 0 | F18: =E18/$E$2 -> 0
A19: =ROUND(SUM(F19*$D$2),2) -> 0 | F19: =E19/$E$2 -> 0
A20: =ROUND(SUM(F20*$D$2),2) -> 0 | F20: =E20/$E$2 -> 0
A21: Zubereitung
A22: 1 Broccoli waschen und putzen. Den dicken Stiel abschneiden, schälen und in 1 cm große Würfel schneiden
A23: 2 Restlichen Broccoli in Röschen teilen.
A24: 3 Peperoni vierteln, entkernen, waschen und 1 cm groß würfeln. Rüebli waschen, schälen und in 5 mm große Würfel schneiden.
A25: 4 Knoblauch schälen und in feine Scheiben schneiden.
A26: 5 Das Öl in einer Pfanne erhitzen. Broccoli, Peperoni, Rüebli und Knoblauch bei mittlerer Hitze ca. 5 Minuten braten.
A27: 6 Erbsen, Curry und Harissa dazugeben. Mit Salz und Pfeffer würzen.
A28: 7 Die Brühe dazugießen, aufkochen und 1 Minute kochen lassen.
A29: 8 Couscous einstreuen, umrühren und alles kurz aufkochen. Auf der ausgeschalteten Herdplatte zugedeckt 5 Minuten quellen lassen.
A30: 9 Inzwischen die Frühlingszwiebeln waschen, putzen und in feine Ringe schneiden.
A31: 10 Am Ende der Garzeit den Couscous mit einer Gabel leicht auflockern. Die Couscous-Gemüse-Pfanne mit den Frühlingszwiebeln bestreuen und servieren.

Sheet Dessert1
C1: Schlussbankett 2016 | I1: Original Rezept
A2: =Menu!B21 -> Schoko-Chilli-Mousse, Citronen-Limecrème, Zimt Parfait, Rüeblikuchen carré, Guezli | E2: Rezept für
A3: Menge | B3: Einheit | C3: Artikel (Gewicht alles ca. Angaben) | D3: Bemerkungen | E3: Einkaufspreis | I3: Originalrezept
A4: Schoko-Chilli-Mousse | I4: 4 | J4: pro Person
A5: =ROUND(SUM(J5*$I$4),2) -> 4 | B5: Stk | C5: Chilischote | D5: Ernesto | F5: =SUM(E5*A5) -> 0 | J5: 1
A6: =ROUND(SUM(J6*$I$4),2) -> 0.8 | B6: Kg | C6: Schokolade dunkel | F6: =SUM(E6*A6) -> 0 | J6: 0.2
A7: =ROUND(SUM(J7*$I$4),2) -> 0.8 | B7: Lt | C7: Rahm | F7: =SUM(E7*A7) -> 0 | J7: 0.2
A8: =ROUND(SUM(J8*$I$4),2) -> 8 | B8: Stk | C8: Eigelb | F8: =SUM(E8*A8) -> 0 | J8: 2
A9: =ROUND(SUM(J9*$I$4),2) -> 4 | B9: KL | C9: lösliches Kaffeepulver | D9: Ernesto | F9: =SUM(E9*A9) -> 0 | J9: 1
A10: Zubereitung | J10: =I10/$I$4 -> 0
A11: 1. Chilischote halbieren, entkernen und sehr fein hacken. Schokolade in Stücke brechen und mit gehackter Chili in eine Schüssel geben. Im Wasserbad bei kleinster Hitze schmelzen. | J11: =I11/$I$4 -> 0
J12: =I12/$I$4 -> 0
A13: 2. Rahm flaumig schlagen. Eigelb mit Kaffee cremig rühren. Schokolade beigeben und mit dem Schneebesen unterrühren. Rahm sofort darunter heben. Mindestens 1 Stunde kühl stellen. | J13: =I13/$I$4 -> 0
J14: =I14/$I$4 -> 0
A15: Zimt Parfait | D15: ergibt Portionen | I15: 4 | J15: Personen
A16: =ROUND(SUM(J16*$I$15),2) -> 8 | B16: Stk | C16: Eigelb | D16: Eigelb und Zucker schaumig schlagen. In einer zweiten Schüssel die Sahne steif schlagen. Beides locker miteinander vermischen und mit Zimt abschmecken. In eine Kastenform füllen, die Oberfläche glatt streichen und mit Alufolie bedeckt im Tiefkühlgerät einige Stunden gefrieren lassen. | J16: 2
A17: =ROUND(SUM(J17*$I$15),2) -> 0.34 | B17: Kg | C17: Zucker | J17: 0.085
A18: =ROUND(SUM(J18*$I$15),2) -> 1 | B18: Lt | C18: Rahm (steif geschlagen) | J18: 0.25
A19: =ROUND(SUM(J19*$I$15),2) -> 4 | B19: TL | C19: Zimt | J19: 1
A20: =ROUND(SUM(J20*$I$15),2) -> 0 | C20: 30 Minuten vor dem Anrichten herausnehmen und bei Zimmertemperatur stehen lassen. Dann das Parfait stürzen und in Scheiben schneiden.
A22: Zitronencrème mit Limetten | I22: 3 | J22: Personen
A23: =ROUND(SUM(J23*$I$22),2) -> 9 | B23: Stk | C23: Limetten | D23: 1 Den Saft der Zitronen auspressen. Durch ein feines Sieb in eine kleine Pfanne giessen. Den Zucker und die Eigelb beifügen. Alles unter Rühren aufkochen lassen, bis die Masse cremig wird. Vom Herd ziehen, die Oberfläche der Creme mit Klarsichtfolie belegen und die Creme auskühlen lassen. | J23: 3
A24: =ROUND(SUM(J24*$I$22),2) -> 0.3 | B24: Kg | C24: Zucker | J24: 0.1
A25: =ROUND(SUM(J25*$I$22),2) -> 12 | B25: Stk | C25: Eigelb | J25: 4
A26: =ROUND(SUM(J26*$I$22),2) -> 0.75 | B26: Kg | C26: Mascarpone | J26: 0.25
A27: =ROUND(SUM(J27*$I$22),2) -> 0.9 | B27: LT | C27: Rahm geschlagen | D27: 2 In einer Schüssel den Mascarpone sorgfältig verrühren. Die Zitronencreme unterziehen. Bis zum Servieren kalt stellen. | J27: 0.3
A28: =ROUND(SUM(J28*$F$2),2) -> 0
A29: =ROUND(SUM(J29*$F$2),2) -> 0 | D29: 3 Kurz vor dem Anrichten den Rahm steif schlagen. Sorgfältig unter die Zitronencreme ziehen. In Gläser oder Dessertschalen anrichten.
A30: =ROUND(SUM(J30*$F$2),2) -> 0
A32: Marzipan für Festhalten der Gläser auf Teller

Sheet Dessert2
C1: Schlussbankett 2016
A2: =Menu!B21 -> Schoko-Chilli-Mousse, Citronen-Limecrème, Zimt Parfait, Rüeblikuchen carré, Guezli | D2: 2 | E2: 20 | F2: Personen
A3: Menge | B3: Einheit | C3: Artikel (Gewicht alles ca. Angaben) | D3: Bemerkungen | E3: Originalrezept | F3: pro Person
A4: Rüeblicake | C4: ohne Zuckerguss | F4: =E4/$E$2 -> 0
A5: =ROUND(SUM(F5*$D$2),2) -> 8 | B5: Kg | C5: Eier, Eiweiss und Eigelb getrennt | E5: 4 | F5: 4
A6: =ROUND(SUM(F6*$D$2),2) -> 2 | B6: Prise | C6: Salz | E6: 1 | F6: 1
A7: =ROUND(SUM(F7*$D$2),2) -> 0.3 | B7: Kg | C7: Zucker | E7: 0.15 | F7: 0.15
A8: =ROUND(SUM(F8*$D$2),2) -> 2 | B8: Stk | C8: Zitrone, abgeriebene Schale | E8: 1 | F8: 1
A9: =ROUND(SUM(F9*$D$2),2) -> 2 | B9: TL | C9: Zimt | E9: 1 | F9: 1
A10: =ROUND(SUM(F10*$D$2),2) -> 0.5 | B10: Kg | C10: Rüebli, geschält, fein gerieben | E10: 0.25 | F10: 0.25
A11: =ROUND(SUM(F11*$D$2),2) -> 0.25 | B11: Kg | C11: gemahlenen Mandel | E11: 0.125 | F11: 0.125
A12: =ROUND(SUM(F12*$D$2),2) -> 0.12 | B12: Kg | C12: Mehl | E12: 0.06 | F12: 0.06
A13: =ROUND(SUM(F13*$D$2),2) -> 2 | B13: TL | C13: Backpulver | E13: 1 | F13: 1
A14: =ROUND(SUM(F14*$D$2),2) -> 0 | C14: Garniture
A15: =ROUND(SUM(F15*$D$2),2) -> 6 | B15: EL | C15: Aprikosenkonfitüre zum glasieren | E15: 3 | F15: 3
A16: =ROUND(SUM(F16*$D$2),2) -> 0 | F16: =E16/$E$2 -> 0
A17: =ROUND(SUM(F17*$D$2),2) -> 0 | C17: Für eine rechteckige Springform von 24-26 cm | F17: =E17/$E$2 -> 0
A18: =ROUND(SUM(F18*$D$2),2) -> 0 | F18: =E18/$E$2 -> 0
A19: =ROUND(SUM(F19*$D$2),2) -> 0 | F19: =E19/$E$2 -> 0
A20: =ROUND(SUM(F20*$D$2),2) -> 0 | F20: =E20/$E$2 -> 0
A21: Zubereitung
A22: 1. Teig: Eiweiss mit Salz steif schlagen. Zucker einrieseln lassen, weiterschlagen, bis die Masse fest ist und glänzt. Eigelb nur kurz darunterrühren. Zitronenschale, Zimt, Rüebli und Mandeln beifügen. Mehl mit Backpulver dazusieben, alles mit dem Gummischaber sorgfältig darunterziehen, in die vorbereitete flache Form geben.
A24: 2. In der unteren Hälfte des auf 180 °C vorgeheizten Ofens ca. 35 Minuten backen. In der Form auskühlen lassen. Cake aus der Form nehmen, auf ein Kuchengitter stellen.
A25: 3. Garnitur: Cake mit Aprikosenkonfitüre bestreichen, antrocknen lassen.

Sheet Käse
C1: Schlussbankett 2016
A2: =Menu!B23 -> kleiner Käse-Teller | D2: =Menu!B27 -> 50 | E2: 4 | F2: Personen
A3: Menge | B3: Einheit | C3: Artikel (Gewicht alles ca. Angaben) | D3: Bemerkungen | E3: Originalrezept | F3: pro Person
A4: =ROUND(SUM(F4*$D$2),2) -> 1.25 | B4: Kg | C4: Chevraux | E4: 0.1 | F4: =E4/$E$2 -> 0.025
A5: =ROUND(SUM(F5*$D$2),2) -> 1.25 | B5: Kg | C5: Hasliberger Bergkäse | E5: 0.1 | F5: =E5/$E$2 -> 0.025
A6: =ROUND(SUM(F6*$D$2),2) -> 1.25 | B6: Kg | C6: Cambozola | E6: 0.1 | F6: =E6/$E$2 -> 0.025
A7: =ROUND(SUM(F7*$D$2),2) -> 1.25 | B7: Kg | C7: Roquefort | E7: 0.1 | F7: =E7/$E$2 -> 0.025
A8: 2 | B8: Glas | C8: Feigensenf | F8: =E8/$E$2 -> 0
A9: 2 | B9: Glas | C9: Birnensenf | F9: =E9/$E$2 -> 0
A10: =ROUND(SUM(F10*$D$2),2) -> 50 | B10: Stk | C10: Feigen klein | E10: 4 | F10: =E10/$E$2 -> 1
A11: =ROUND(SUM(F11*$D$2),2) -> 50 | B11: Tranchen | C11: Walliserbrot geschnitten | E11: 4 | F11: =E11/$E$2 -> 1
A12: =ROUND(SUM(F12*$D$2),2) -> 0 | F12: =E12/$E$2 -> 0
A13: =ROUND(SUM(F13*$D$2),2) -> 0 | C13: 100 gr. Käse pro Person | F13: =E13/$E$2 -> 0
A14: =ROUND(SUM(F14*$D$2),2) -> 0 | F14: =E14/$E$2 -> 0
A15: =ROUND(SUM(F15*$D$2),2) -> 0 | F15: =E15/$E$2 -> 0
A16: =ROUND(SUM(F16*$D$2),2) -> 0 | F16: =E16/$E$2 -> 0
A17: =ROUND(SUM(F17*$D$2),2) -> 0 | F17: =E17/$E$2 -> 0
A18: =ROUND(SUM(F18*$D$2),2) -> 0 | F18: =E18/$E$2 -> 0
A19: =ROUND(SUM(F19*$D$2),2) -> 0 | F19: =E19/$E$2 -> 0
A20: =ROUND(SUM(F20*$D$2),2) -> 0 | F20: =E20/$E$2 -> 0
A21: Zubereitung

Sheet Einkaufsliste
A1: Hobby-Küche Zug | C1: Einkaufsliste | G1: ok
A2: Menge | B2: Einheit | C2: Artikel
A3: ='Apero 1'!A2 -> Apéro Gebäck | D3: Bemerkungen | E3: Einkaufen | F3: Wo
A4: =SUM('Apero 1'!A4) -> 0 | B4: ='Apero 1'!B4 -> 0 | C4: ='Apero 1'!C4 -> Knusper-Flûtes | D4: ='Apero 1'!D4 -> 0
A5: =SUM('Apero 1'!A5) -> 1 | B5: ='Apero 1'!B5 -> Stk | C5: ='Apero 1'!C5 -> Blätterteig ausgewallt 42x26 cm | D5: ='Apero 1'!D5 -> 0 | E5: JP / Werner
A6: =SUM('Apero 1'!A6) -> 1 | B6: ='Apero 1'!B6 -> Stk | C6: ='Apero 1'!C6 -> Ei verklopft | D6: ='Apero 1'!D6 -> 0 | E6: JP / Werner
A7: =SUM('Apero 1'!A7) -> 0.05 | B7: ='Apero 1'!B7 -> Kg | C7: ='Apero 1'!C7 -> Pistazien grob gehackt | D7: bringt Sedi
A8: =SUM('Apero 1'!A8) -> 0.05 | B8: ='Apero 1'!B8 -> Kg | C8: ='Apero 1'!C8 -> Mandelstifte grob gehackt | D8: ='Apero 1'!D8 -> 0
A9: =SUM('Apero 1'!A9) -> 2 | B9: ='Apero 1'!B9 -> Prise | C9: ='Apero 1'!C9 -> Fleur de Sel | D9: aus Küche
A10: =SUM('Apero 1'!A10) -> 0 | B10: ='Apero 1'!B10 -> 0 | C10: ='Apero 1'!C10 -> Rosmarin-Speck-Grissini | D10: ='Apero 1'!D10 -> 0
A11: =SUM('Apero 1'!A11) -> 1 | B11: ='Apero 1'!B11 -> Stk | C11: ='Apero 1'!C11 -> Blätterteig ausgewallt 42x26 cm | D11: ='Apero 1'!D11 -> 0 | E11: JP / Werner
A12: =SUM('Apero 1'!A12) -> 0.1 | B12: ='Apero 1'!B12 -> Kg | C12: ='Apero 1'!C12 -> Sesam | D12: ='Apero 1'!D12 -> 0 | E12: JP / Werner
A13: =SUM('Apero 1'!A13) -> 2 | B13: ='Apero 1'!B13 -> EL | C13: ='Apero 1'!C13 -> Rosmarin, fein gehackt | D13: ='Apero 1'!D13 -> 0 | E13: JP / Werner
A14: =SUM('Apero 1'!A14) -> 0 | B14: ='Apero 1'!B14 -> 0 | C14: ='Apero 1'!C14 -> wenig Kräutersalz & Pfeffer | D14: ='Apero 1'!D14 -> 0
A15: =SUM('Apero 1'!A15) -> 0 | B15: ='Apero 1'!B15 -> 0 | C15: ='Apero 1'!C15 -> Apérogebäck | D15: ='Apero 1'!D15 -> 0
A16: =SUM('Apero 1'!A16) -> 2 | B16: ='Apero 1'!B16 -> Stk | C16: ='Apero 1'!C16 -> Blätterteig ausgewallt 42x26 cm | D16: ='Apero 1'!D16 -> 0 | E16: JP / Werner
A17: =SUM('Apero 1'!A17) -> 1 | B17: ='Apero 1'!B17 -> Stk | C17: ='Apero 1'!C17 -> Eigelb | D17: ='Apero 1'!D17 -> 0 | E17: JP / Werner
A18: =SUM('Apero 1'!A18) -> 1 | B18: ='Apero 1'!B18 -> EL | C18: ='Apero 1'!C18 -> Yoghurt nature | D18: ='Apero 1'!D18 -> 0 | E18: JP / Werner
A19: =SUM('Apero 1'!A19) -> 1 | B19: ='Apero 1'!B19 -> EL | C19: ='Apero 1'!C19 -> Gewürz nach Belieben | D19: ='Apero 1'!D19 -> 0 | E19: JP / Werner
A20: =SUM('Apero 1'!A20) -> 0 | B20: ='Apero 1'!B20 -> 0 | C20: ='Apero 1'!C20 -> 0 | D20: ='Apero 1'!D20 -> 0
A21: ='Amuse-Bouche'!A2 -> Pumpernickel mit Bündnerfleischcrème | D21: Bemerkungen | E21: Einkaufen
A22: =SUM('Amuse-Bouche'!A4) -> 1 | B22: ='Amuse-Bouche'!B4 -> Stk | C22: ='Amuse-Bouche'!C4 -> Zwiebel mittelgross | D22: ='Amuse-Bouche'!D4 -> 0 | E22: JP / Werner
A23: =SUM('Amuse-Bouche'!A5) -> 0.1 | B23: ='Amuse-Bouche'!B5 -> Kg | C23: ='Amuse-Bouche'!C5 -> Bündnerfleisch | E23: JP / Werner
A24: =SUM('Amuse-Bouche'!A6) -> 0.03 | B24: ='Amuse-Bouche'!B6 -> Kg | C24: ='Amuse-Bouche'!C6 -> Butter | D24: ='Amuse-Bouche'!D6 -> 0 | E24: JP / Werner
A25: =SUM('Amuse-Bouche'!A7) -> 0.15 | B25: ='Amuse-Bouche'!B7 -> LT | C25: ='Amuse-Bouche'!C7 -> Gemüsebouillon | D25: ='Amuse-Bouche'!D7 -> 0 | E25: JP / Werner
A26: =SUM('Amuse-Bouche'!A8) -> 1 | B26: ='Amuse-Bouche'!B8 -> Bund | C26: ='Amuse-Bouche'!C8 -> Schnittlauch geschnitten | D26: ='Amuse-Bouche'!D8 -> 0 | E26: JP / Werner
A27: =SUM('Amuse-Bouche'!A9) -> 0.1 | B27: ='Amuse-Bouche'!B9 -> Kg | C27: ='Amuse-Bouche'!C9 -> Quark | D27: ='Amuse-Bouche'!D9 -> 0 | E27: JP / Werner
A28: =SUM('Amuse-Bouche'!A10) -> 0.3 | B28: ='Amuse-Bouche'!B10 -> Kg | C28: ='Amuse-Bouche'!C10 -> Doppelrahmfrischkäse mit Pfeffer | D28: ='Amuse-Bouche'!D10 -> 0 | E28: JP / Werner
A29: =SUM('Amuse-Bouche'!A11) -> 0.1 | B29: ='Amuse-Bouche'!B11 -> Kg | C29: ='Amuse-Bouche'!C11 -> Sprinz gerieben | D29: ='Amuse-Bouche'!D11 -> 0 | E29: JP / Werner
A30: =SUM('Amuse-Bouche'!A12) -> 4 | B30: ='Amuse-Bouche'!B12 -> Stk | C30: ='Amuse-Bouche'!C12 -> Pumpernickel Rolle | E30: JP
A31: =SUM('Amuse-Bouche'!A13) -> 3 | B31: ='Amuse-Bouche'!B13 -> Stk | C31: ='Amuse-Bouche'!C13 -> Sprinzrollen halbiert | D31: ='Amuse-Bouche'!D13 -> 0 | E31: JP / Werner
A32: =SUM('Amuse-Bouche'!A14) -> 0 | B32: ='Amuse-Bouche'!B14 -> 0 | C32: ='Amuse-Bouche'!C14 -> 0 | D32: ='Amuse-Bouche'!D14 -> 0
A33: =SUM('Amuse-Bouche'!A15) -> 0 | B33: ='Amuse-Bouche'!B15 -> 0 | C33: ='Amuse-Bouche'!C15 -> 0 | D33: ='Amuse-Bouche'!D15 -> 0
A34: =SUM('Amuse-Bouche'!A16) -> 0 | B34: ='Amuse-Bouche'!B16 -> 0 | C34: ='Amuse-Bouche'!C16 -> 0 | D34: ='Amuse-Bouche'!D16 -> 0
A35: =SUM('Amuse-Bouche'!A17) -> 0 | B35: ='Amuse-Bouche'!B17 -> 0 | C35: ='Amuse-Bouche'!C17 -> 0 | D35: ='Amuse-Bouche'!D17 -> 0
A36: =SUM('Amuse-Bouche'!A18) -> 0 | B36: ='Amuse-Bouche'!B18 -> 0 | C36: ='Amuse-Bouche'!C18 -> 0 | D36: ='Amuse-Bouche'!D18 -> 0
A37: =SUM('Amuse-Bouche'!A19) -> 0 | B37: ='Amuse-Bouche'!B19 -> 0 | C37: ='Amuse-Bouche'!C19 -> 0 | D37: ='Amuse-Bouche'!D19 -> 0
A38: =SUM('Amuse-Bouche'!A20) -> 0 | B38: ='Amuse-Bouche'!B20 -> 0 | C38: ='Amuse-Bouche'!C20 -> 0 | D38: ='Amuse-Bouche'!D20 -> 0
A39: =Vorspeise!A2 -> Mercimek Köftesi auf Randencarpaccio | D39: Bemerkungen | E39: Einkaufen
A40: =SUM(Vorspeise!A4) -> 3 | B40: =Vorspeise!B4 -> Stk | C40: =Vorspeise!C4 -> Zwiebel, gehackt | D40: =Vorspeise!D4 -> 0 | E40: Sedi
...

Sheet Einkaufsliste A-Z
A1: ok | B1: Hobby-Küche Zug | D1: Einkaufsliste | E1: Bemerkungen | F1: Einkaufen | G1: Wo
B2: =SUM(Vorspeise!A13) -> 3 | C2: =Vorspeise!B13 -> TL | D2: =Vorspeise!C13 -> 1 TL Kreuzkümmel, gemahlen | E2: =Vorspeise!D13 -> 0 | F2: Sedi
B3: =SUM(Vorspeise!A20) -> 0.3 | C3: =Vorspeise!B20 -> KG | D3: =Vorspeise!C20 -> 1-2 kleine Rande Rot, gerüstet | E3: =Vorspeise!D20 -> 0 | F3: Sedi
B4: =SUM(Vorspeise!A21) -> 0.3 | C4: =Vorspeise!B21 -> KG | D4: =Vorspeise!C21 -> 1-2 kleine Randen, Gelb gerüstet | E4: =Vorspeise!D21 -> 0 | F4: Sedi
B5: =SUM(Vorspeise!A23) -> 4.5 | C5: =Vorspeise!B23 -> TL | D5: =Vorspeise!C23 -> 2 EL Balsamico Essig Bianco | E5: =Vorspeise!D23 -> 0 | F5: Sedi
B6: =SUM(Vorspeise!A22) -> 4.5 | C6: =Vorspeise!B22 -> TL | D6: =Vorspeise!C22 -> 2 TL Rohzucker | E6: =Vorspeise!D22 -> 0 | F6: Sedi
B7: =SUM(Vorspeise!A24) -> 18 | C7: =Vorspeise!B24 -> EL | D7: =Vorspeise!C24 -> 2-3 EL Gemüsebouillon | E7: =Vorspeise!D24 -> 0 | F7: Sedi
B8: =SUM(Dessert2!A15) -> 6 | C8: =Dessert2!B15 -> EL | D8: =Dessert2!C15 -> Aprikosenkonfitüre zum glasieren | F8: Ernesto
B9: =SUM(Dessert2!A13) -> 2 | C9: =Dessert2!B13 -> TL | D9: =Dessert2!C13 -> Backpulver | F9: Ernesto
B10: =SUM(Käse!A9) -> 2 | C10: =Käse!B9 -> Glas | D10: =Käse!C9 -> Birnensenf | E10: =Käse!D9 -> 0 | F10: Ernesto
B11: =Suppe!A8 -> 1.6 | C11: =Suppe!B8 -> Lt | D11: =Suppe!C8 -> Bouillon | E11: =Suppe!D8 -> 0 | F11: Christian
B12: =Beilage!A15 -> 1 | C12: =Beilage!B15 -> Lt | D12: =Beilage!C15 -> Bouillon Gemüse | E12: =Beilage!D15 -> 0 | F12: Sedi
B13: =SUM(Fleisch!A6) -> 6.25 | C13: =Fleisch!B6 -> EL | D13: =Fleisch!C6 -> Bratbutter oder Öl | E13: =Fleisch!D6 -> 0 | F13: Christian
B14: =Beilage!A4 -> 2.5 | C14: =Beilage!B4 -> Kg | D14: =Beilage!C4 -> Broccoli | E14: =Beilage!D4 -> kleine Röschen | F14: Sedi
B15: =SUM(Vorspeise!A9) -> 0.45 | C15: =Vorspeise!B9 -> Kg | D15: =Vorspeise!C9 -> Bulgur fein (ince Bulgur für Köfte) | E15: =Vorspeise!D9 -> 0 | F15: Sedi
B16: =SUM(Vorspeise!A6) -> 3 | C16: =Vorspeise!B6 -> EL | D16: =Vorspeise!C6 -> Butter zum Dämpfen | E16: =Vorspeise!D6 -> 0 | F16: Sedi
B17: =SUM(Dessert1!A5) -> 4 | C17: =Dessert1!B5 -> Stk | D17: =Dessert1!C5 -> Chilischote | E17: bringt | F17: Ernesto
B18: =Suppe!A10 -> 0.2 | C18: =Suppe!B10 -> Kg | D18: =Suppe!C10 -> Crème fraîche | E18: =Suppe!D10 -> 0 | F18: Christian
B19: =Beilage!A11 -> 5 | C19: =Beilage!B11 -> El | D19: =Beilage!C11 -> Curry Pulver | E19: =Beilage!D11 -> 0 | F19: Sedi
B20: =SUM(Dessert2!A5) -> 8 | C20: =Dessert2!B5 -> Kg | D20: =Dessert2!C5 -> Eier, Eiweiss und Eigelb getrennt | F20: Ernesto
B21: =Beilage!A9 -> 0.75 | C21: =Beilage!B9 -> Kg | D21: =Beilage!C9 -> Erbsen TK | E21: =Beilage!D9 -> 0 | F21: Sedi
B22: =SUM(Vorspeise!A31) -> 0.3 | C22: =Vorspeise!B31 -> KG | D22: =Vorspeise!C31 -> Feta | E22: =Vorspeise!D31 -> Garniture | F22: Sedi
B23: =SUM(Vorspeise!A15) -> 0.75 | C23: =Vorspeise!B15 -> Bund | D23: =Vorspeise!C15 -> Frühlingszwiebel | E23: =Vorspeise!D15 -> 0 | F23: Sedi
B24: =Beilage!A17 -> 10 | C24: =Beilage!B17 -> Stk | D24: =Beilage!C17 -> Frühlingszwiebel | E24: =Beilage!D17 -> 0 | F24: Sedi
B25: =SUM(Dessert2!A11) -> 0.25 | C25: =Dessert2!B11 -> Kg | D25: =Dessert2!C11 -> gemahlenen Mandel | F25: Ernesto
B26: =SUM(Vorspeise!A26) -> 0.6 | C26: =Vorspeise!B26 -> KG | D26: =Vorspeise!C26 -> Gemüsebrunoise | E26: =Vorspeise!D26 -> 0 | F26: Sedi
B27: =Suppe!A16 -> 0.2 | C27: =Suppe!B16 -> Kg | D27: =Suppe!C16 -> getrocknete Cranberries | E27: =Suppe!D16 -> 0 | F27: Christian
C28: =Glace!B4 -> 0 | D28: =Glace!C4 -> Grappa Glace | E28: =Glace!D4 -> 0 | F28: Christian
B29: =Beilage!A12 -> 5 | C29: =Beilage!B12 -> EL | D29: =Beilage!C12 -> Harissa | E29: =Beilage!D12 -> 0 | F29: Sedi
B30: =SUM(Fleisch!A4) -> 8.13 | C30: =Fleisch!B4 -> Kg | D30: =Fleisch!C4 -> Kalbscarré massiert | E30: =Fleisch!D4 -> roh | F30: Christian
B31: =Suppe!A7 -> 0.4 | C31: =Suppe!B7 -> Kg | D31: =Suppe!C7 -> Kartoffeln (mehlige) | E31: =Suppe!D7 -> 0 | F31: Christian
B32: =Beilage!A7 -> 5 | C32: =Beilage!B7 -> Stk | D32: =Beilage!C7 -> Knoblauchzehe | E32: =Beilage!D7 -> 0 | F32: Sedi
B33: =Suppe!A6 -> 2 | C33: =Suppe!B6 -> Stk | D33: =Suppe!C6 -> Knoblauchzehe | E33: =Suppe!D6 -> 0 | F33: Christian
B34: =SUM(Vorspeise!A5) -> 3 | C34: =Vorspeise!B5 -> Stk | D34: =Vorspeise!C5 -> Knoblauchzehe, gehackt | E34: =Vorspeise!D5 -> 0 | F34: Sedi
B35: =SUM(Dessert1!A9) -> 4 | C35: =Dessert1!B9 -> KL | D35: =Dessert1!C9 -> lösliches Kaffeepulver | E35: bringt | F35: Ernesto
B36: =SUM(Dessert2!A12) -> 0.12 | C36: =Dessert2!B12 -> Kg | D36: =Dessert2!C12 -> Mehl | F36: Ernesto
B37: =SUM(Vorspeise!A16) -> 1.5 | C37: =Vorspeise!B16 -> Bund | D37: =Vorspeise!C16 -> Minze Frisch | E37: =Vorspeise!D16 -> 0 | F37: Sedi
B38: =Suppe!A4 -> 2 | C38: =Suppe!B4 -> EL | D38: =Suppe!C4 -> Oel | E38: =Suppe!D4 -> 0 | F38: Christian
B39: =Beilage!A8 -> 20 | C39: =Beilage!B8 -> EL | D39: =Beilage!C8 -> Olivenöl | E39: =Beilage!D8 -> 0 | F39: Sedi
B40: =SUM(Vorspeise!A12) -> 3 | C40: =Vorspeise!B12 -> Prise | D40: =Vorspeise!C12 -> Paprika | E40: =Vorspeise!D12 -> 0 | F40: Sedi
...

Sheet Arbeitseinsatz
B1: Produktionsplan | C1: Arbeitsbeginn Samstag um 11.00
A4: Personen | C4: Anrichten auf | D4: von wem | E4: Produktion | F4: Zeitplan Service | G4: Bemerkungen
A5: Apéro | B5: Apéro Gebäck | C5: Platten | D5: Zeno | E5: Samstag | F5: 18.3 | G5: auf Tische verteilen
A6: Apéro | B6: Chicoree Schiffchen mit Gorgonzola Mascarpone | C6: Platten | D6: Zeno | E6: Samstag
B7: Getränke Service | D7: Service | F7: 19
A8: Amuse-Bouche | B8: Pumpernickel mit Bündnerfleischcrème | C8: kleiner rechteckigen Teller | D8: Christian | E8: Freitag JP | F8: 19.15 | G8: eventuell Serviert durch Tisch D
A9: Vorspeise | B9: Mercimek Köftesi auf Randecarpacio | C9: weisser Runder mittlerer | D9: Zeno | E9: Donnerstag/Samstag | F9: 19.3 | G9: GLACELÖFFEL Christian
A10: Suppe | B10: Kartoffel-Wasabi mit Lachstreifen | C10: Suppen Schale mit Unterteller / Brot | D10: Zeno | E10: Freitag bei Christian | F10: 20 | G10: Christian macht die Suppe
A11: Fisch | B11: Jakobsmuschel, Balsamico Jus | C11: Fischteller | D11: Zeno | E11: Samstag | F11: 20.3 | G11: Balsamico Jus ist gemacht
B12: Safran-Risotto | E12: Samstag
A13: Glace | B13: Grappa-Glace mit Traubengariture | C13: in weissen Löffel | D13: Christian | E13: Samstag | F13: 21
A14: Hauptgang | B14: Kalbsnierstück massiert aus dem Ofen | C14: weisser Teller gross | D14: Zeno | E14: Samstag | F14: 21.3
B15: Couscus mit Gemüse | E15: Samstag
B16: Morchelsauce | D16: Christian | E16: Freitag bei Christian
A17: Surprise Teller | B17: Schoko-Chilli-Mousse | C17: Glasteller | D17: Zeno | E17: Donnerstag | F17: 22.15
B18: Citronen-Leimecrème | C18: kleine Gläser von | D18: Christian | E18: Samstag
B19: Zimt Parfait | E19: Freitag JP
B20: Rüeblikuchen carré | D20: Ernesto | E20: Freitag Ernesto
B21: Guezli | D21: JP | E21: fertig
A22: Käse | B22: Chevraux | C22: auf Desseert-Teller | D22: Zeno | E22: Samstag | F22: .22.45
B23: Hasliberger Bergkäse | E23: Samstag
B24: Cambozola | E24: Samstag
B25: Roquefort | E25: Samstag
B26: Feigen- und Birnensef | C26: im kleinen Löffel | D26: JP | E26: Samstag
B27: Feigen klein | C27: in kleine Schale durchsichtig von | D27: Christian | E27: Samstag
B28: Walliserbrot | E28: Samstag

Sheet Produktionsplan
B1: Produktionsplan | C1: Arbeitsbeginn Samstag um 11.00
A4: Personen | C4: Anrichten auf | D4: von wem | E4: Produktion | F4: Bemerkungen
A5: Apéro | B5: Apéro Gebäck | C5: Platten | D5: Zeno | E5: Samstag | F5: auf Tische verteilen
A6: Apéro | B6: Chicoree Schiffchen mit Gorgonzola Mascarpone | C6: Platten | D6: Zeno | E6: Samstag
B7: Getränke Service | D7: Service
A8: Amuse-Bouche | B8: Pumpernickel mit Bündnerfleischcrème | C8: kleiner rechteckigen Teller | D8: Christian | E8: Freitag JP | F8: eventuell Serviert durch Tisch D
A9: Vorspeise | B9: Mercimek Köftesi auf Randecarpacio | C9: weisser Runder mittlerer | D9: Zeno | E9: Donnerstag/Samstag | F9: GLACELÖFFEL Christian
A10: Suppe | B10: Kartoffel-Wasabi mit Lachstreifen | C10: Suppen Schale mit Unterteller / Brot | D10: Zeno | E10: Freitag bei Christian | F10: Christian macht die Suppe
A11: Fisch | B11: Jakobsmuschel, Balsamico Jus | C11: Fischteller | D11: Zeno | E11: Samstag | F11: Balsamico Jus ist gemacht
B12: Safran-Risotto | E12: Samstag
A13: Glace | B13: Grappa-Glace mit Traubengariture | C13: in weissen Löffel | D13: Christian | E13: Samstag
A14: Hauptgang | B14: Kalbsnierstück massiert aus dem Ofen | C14: weisser Teller gross | D14: Zeno | E14: Samstag
B15: Couscus mit Gemüse | E15: Samstag
B16: Morchelsauce | D16: Christian | E16: Freitag bei Christian
A17: Surprise Teller | B17: Schoko-Chilli-Mousse | C17: Glasteller | D17: Zeno | E17: Donnerstag
B18: Citronen-Leimecrème | C18: kleine Gläser von | D18: Christian | E18: Samstag
B19: Zimt Parfait | E19: Freitag JP
B20: Rüeblikuchen carré | D20: Ernesto | E20: Freitag Ernesto
B21: Guezli | D21: JP | E21: fertig
A22: Käse | B22: Chevraux | C22: auf Desseert-Teller | D22: Zeno | E22: Samstag
B23: Hasliberger Bergkäse | E23: Samstag
B24: Cambozola | E24: Samstag
B25: Roquefort | E25: Samstag
B26: Feigen- und Birnensef | C26: im kleinen Löffel | D26: JP | E26: Samstag
B27: Feigen klein | C27: in kleine Schale durchsichtig von | D27: Christian | E27: Samstag
B28: Walliserbrot | E28: Samstag
